BEGIN:VCALENDAR
PRODID:NingEventWidget-v1
VERSION:2.0
METHOD:PUBLISH
BEGIN:VEVENT
UID:2508951:Event:227900
DTSTAMP:20260422T003119Z
SUMMARY:Click here for THURSDAY 8/22/13 VIRGINIA BEACH ENTERTAINMENT L
 ISTINGS
DESCRIPTION:LIVE ENTERTAINMENT/ DJ’S/ KARAOKE:\n5th Street Stage ECS
 C- Zig Zag 2:30pm, mOcean 4pm, Hot 100.5 and ECSC360 Dance Party 5:15p
 m, Kaboom Box 7pm\n7th Street Stage- Deja 6pm-10pm\n17th Street Stage 
 – Army TRACDOC Band 8pm-10pm\n31st Street Stage- Rip Chord 6pm-10pm\
 nAbbey Rd.- Mike Proffitt 9:30pm\nAberdeen Barn- Bryan Dunn\nBahama Br
 eeze- Dalton Lavora 5pm-8pm, Juju 8pm-11pm\nBaja Sandbridge- Family Ka
 raoke\nBoneshakers Sports Bar and Grill – Michael Justis 6pm-10pm\n
 Cactus Jacks - Rockstar Parking 7pm-11pm\nCrocs- Rich Whiskey\nDoc Ta
 ylors- Mike Dillon Band\nFinn McCools- Brandon Bower 9:30pm \nGrumpys
 - Pridemore 8pm-12am\nHarry O’s- Karaoke 9pm\nIcehouse- Red Stapler 
 Duo\nIl Giardino's- Billy Batte 7pm\nJewish Mother- Roonful of Blues\n
 Keagans Town Center- Steve Forss 10pm\nLandstown Commons- Kevin Mac 6
 pm-9pm\nMax & Ermas- Dustin Furlow 6:30pm\nMurphys- Don Bunch 9pm-1am\
 nRock Fish -Jack Becker 7pm\nSalty C’s- Open Mic\nSandbridge Islan
 d Grill- Karaoke 9pm\nSouth Beach Grill- Jukes Boogie Trio\nStrawbridg
 e Grill & Bar- Mike DeMoss 6pm\nTapped Gastropub- Ray Meeks 9pm\nTortu
 gas – Brandon Bower 7pm\nWoody McGees Barstro – Suffle Brothers 9
 :30pm\nZest- Kevin Miller 8pm\n \nSPECIAL EVENTS/CONCERTS/ FESTIVALS:
 \nNorfolk Tides- Harbor Park\nCoastal Edge Surfing Championship - Pro
 fessional and Amateur Surfing begins at 7am at 2nd street-  Oceanfron
 t \nCinema Café Pembroke Meadows- Comedy at the Café\nKrendl & Comp
 any Magical Variety Show- 24th Street Park.  Showtimes are 7:30,8:30 
 and 9:30. All shows are different and feature the largest Magic Compan
 y in the Commonwealth of Virginia.\nFamily Great Adventure Series- 27t
 h Street Beach 6pm-1pm\nCirquesa Dreamquest- Rudee Inlet Loop 2pm & 7
 :30pm\n \nCLICK HERE FOR THE BEST DEALS & COUPONS IN VIRGINIA BEACH 
 FEATURING EXCLUSIVE BARGAINS\n \nCLICK HERE FOR HAPPY HOUR DEALS FEAT
 URING SEVERAL LOCAL RESTAURANTS DAILY SPECIALS\n \nCLICK HERE REACH O
 UR VENUE'S PAGE TO FIND ADDRESSES AND PHONE NUMBERS OF PLACES LISTED\
 n \nCLICK HERE FOR OUR BAND/DJ PAGE TO FIND DESCRIPTION OF THE BANDS
  AND LINKS TO THEIR WEB PAGES\n\nFor more information visit https://vb
 nightlife.com/events/click-here-for-thursday-8-22-13-virginia-beach-en
 tertainment-list
DTSTART:20130822T040000Z
DTEND:20130823T035900Z
CATEGORIES:"virginia beach", "virginia beach nightlife", "virginia bea
 ch bands", "virginia beach entertainment"
LOCATION:Virginia Beach, VA
WEBSITE:
URL:
CONTACT:
ORGANIZER;CN="VBnightlife.com":https://vbnightlife.com/profile/admin
ATTACH;FMTTYPE="image/jpeg":http://storage.ning.com/topology/rest/1.0/
 file/get/1664196815?profile=original
ATTENDEE;ROLE=REQ-PARTICIPANT;PARTSTAT=ACCEPTED;RSVP=TRUE;CN="VBnightl
 ife.com":https://vbnightlife.com/profile/admin
END:VEVENT
END:VCALENDAR
