BEGIN:VCALENDAR
PRODID:NingEventWidget-v1
VERSION:2.0
METHOD:PUBLISH
BEGIN:VEVENT
UID:2508951:Event:199487
DTSTAMP:20260422T224612Z
SUMMARY:Click here for THURSDAY 7/5/12 VIRGINIA BEACH ENTERTAINMENT LI
 STINGS
DESCRIPTION:LIVE ENTERTAINMENT\n7th Street Stage- Gridlock 64, 6-10PM\
 n11th Street Taphouse- Jackson LeBeau, 7-10PM\n13th Street- The Life a
 nd Music of Ella Fitzgerald, 7-10PM\n17th Street Stage- Cheaper than T
 herapy, 8-10:30PM\n24th Street Park- Tidewater Winds, 7:30-9:30PM\n25t
 h Street- Naval Airpower Legacy, 8:45 & 9:30PM\n27th Street Park- The 
 Witch of Pungo, 8:30, 9:15, 10PM\n31st Street Stage- The Janitors, 6-1
 0PM\nAbbey Road- Mike Proffitt\nBoneshakers- Trailerhood, 8:30 to 11 +
  Prime Rib night every Thursday $1.50 oz cut to order -Happy Hour 3 to
  7\nChix- (7th Street) Gridlock 64\nCinema Cafe (Pembroke)- Comedy Nig
 ht, 9-11PM\nCalypso- Live Entertainment, w/ Rock-e-oke, 6-10PM\nDoc Ta
 ylors Seaside Market Lounge- The Funk Art, 8:30PM\nDiesel- Water- Born
 e\nDeja Blu- Red Stapler\nFinn McCools- Live Entertainment\nGreen Parr
 ot- Open Mic w/ Dahna Rowe\nGrumpys- Soul Patch\nH20- The Deloreans, 1
 0PM\nHavanah Nights- Cocktail Piano (Wed.-Sat.,) w/Justin Kauflin,5-7P
 M, Justin Kauflin Trio, 8 -11PM\nIL Giardino- Live Entertainment in 
 the lounge w/ Mr. Billy Batte- 7PM\nKeagans- Steve Forss & Robert Coat
 es,10PM\nLa Casa Rana- Live Entertainment\nMurphys- Live Entertainment
 , 9PM\nO'Learys- (Lynnhaven Dr) Service Industry Night, 10PM\nOmega's-
  Sexy Thursday's w/ DJ Atrevete (Every Thursday)\nPoppas Pub- Open Mic
  w/ Common Ground, 7PM\nSalty C's- (Shore Dr) Open Mic\nSouth Beach Gr
 ill- Open Mic\nStarz- Open Mic w/ Fo Mo Hoz, 8:30PM\nTayst- Half price
  bottle of wine night (Every Thursday)\nWoody McGees- Live Entertainme
 nt, 9:30PM-12:30AM\n \nTHEATRE/FUNDRAISERS/CONCERTS/SPORTS:\n \nFAMI
 LY FUN/SPECIAL EVENTS:\nOld Coast Guard Station- Shipwrecks and Ghostl
 ore, 7:30-9PM\nLittle Island Park- Landon Stark and Jack Shea, 6-8PM\n
 Virginia MOCA- Andy Warhol\n \nDJ’S/KARAOKE/DANCES:\nRetro Cafe- Ka
 raoke\nGreen Parrot- Open Mic w/ Dahna Rowe\nSecrets- Karaoke w/ El Mi
 ke, 9PM-1AM\nWannaB's- KARAOKE 7 PM - 2 AM  Monday - Saturday (21 and
  Older)\nCLICK HERE FOR HAPPY HOUR DEALS\nCLICK HERE REACH OUR VENUE'S
  PAGE\nCLICK HERE FOR OUR BAND/DJ PAGE\n\nFor more information visit h
 ttps://vbnightlife.com/events/click-here-for-thursday-7-5-12-virginia-
 beach-entertainment
DTSTART:20120705T040000Z
DTEND:20120706T035900Z
CATEGORIES:"virginia beach entertainment", "virginia beach nightlife",
  "virginia beach bands"
LOCATION:Virginia Beach
WEBSITE:
URL:
CONTACT:
ORGANIZER:VBnightlife.com (Dionna Campanella)
ATTACH;FMTTYPE="image/jpeg":http://storage.ning.com/topology/rest/1.0/
 file/get/1664172570?profile=original
ATTENDEE;ROLE=REQ-PARTICIPANT;PARTSTAT=ACCEPTED;RSVP=TRUE;CN="VBnightl
 ife.com":https://vbnightlife.com/profile/admin
END:VEVENT
END:VCALENDAR
