BEGIN:VCALENDAR
PRODID:NingEventWidget-v1
VERSION:2.0
METHOD:PUBLISH
BEGIN:VEVENT
UID:2508951:Event:199798
DTSTAMP:20260420T010357Z
SUMMARY:Click here for THURSDAY 7/19/12 VIRGINIA BEACH ENTERTAINMENT L
 ISTINGS
DESCRIPTION:LIVE ENTERTAINMENT\n7th Street Stage- River Boyz, 6-10PM\n
 11th Street Taphouse- Darrell Hawkins, 7-10PM\n13th Street- The Life 
 and Music of Ella Fitzgerald, 7-10PM\n17th Street Stage- Gridlock 64, 
 8-10:30PM\n24th Street Park- Krendl & Company Magical Variety Show, 7:
 30, 8:30PM,9:30PM\n25th Street- Naval Airpower Legacy, 8:45 & 9:30PM\n
 27th Street Park- The Witch of Pungo, 8:30PM,9;15PM, 10PM\n31st Street
  Stage- The Office, 6-10PM\nBoneshakers- Ever After, 8:30 to 11 + Prim
 e Rib night every Thursday $1.50 oz cut to order -Happy Hour 3 to 7\nA
 bbey Road- Mike Proffitt\nCinema Cafe (Pembroke)- Comedy Night, 9-11PM
 \nCalypso- Live Entertainment, w/ Rock-e-oke, 6-10PM\nClutch- Backwate
 r Jam\nDeja Blu- Red Stapler\nDoc Taylors Seaside Market Lounge- Big D
 addy Love,\n8:30PM\nFinn McCools- Live Entertainment\nGrumpy's- Hotcak
 es, 7:30PM\nGreen Parrot- Open Mic w/ Dahna Rowe\nH20- Karl Werne, 7-1
 0PM, Jesse Chong, 10PM\nHavanah Nights- Cocktail Piano (Wed.-Sat.,) w/
 Justin Kauflin,5-7PM, Justin Kauflin Trio, 8 -11PM\nIL Giardino- Liv
 e Entertainment in the lounge w/ Mr. Billy Batte- 7PM\nKeagans- Steve 
 Forss & Steve Coates,10PM\nLa Casa Rana- Live Entertainment\nMurphys- 
 Live Entertainment, 9PM\nO'Learys- (Lynnhaven Dr) Service Industry Nig
 ht, 10PM\nOmega's- Sexy Thursday's w/ DJ Atrevete (Every Thursday)\nPo
 ppas Pub- Open Mic w/ Common Ground, 7PM\nSalty C's- (Shore Dr) Open M
 ic\nSouth Beach Grill- Open Mic\nStarz- Open Mic w/ Fo Mo Hoz, 8:30PM\
 nTayst- Half price bottle of wine night (Every Thursday)\nWoody McGees
 - Live Entertainment, 9:30PM-12:30AM\nWing King- Brent Shepard\n \nTH
 EATRE/FUNDRAISERS/CONCERTS/SPORTS:\n \nFAMILY FUN/SPECIAL EVENTS:\nOl
 d Coast Guard Station- Shipwrecks and Ghostlore, 7:30-9PM\nLittle Isla
 nd Park- Landon Stark and Guy Collins, 6-8PM\nVirginia MOCA- Andy Warh
 ol\n \nDJ’S/KARAOKE/DANCES:\nRetro Cafe- Karaoke\nGreen Parrot- Ope
 n Mic w/ Dahna Rowe\nSecrets- Karaoke w/ El Mike, 9PM-1AM\nWannaB's- K
 ARAOKE 7 PM - 2 AM  Monday - Saturday (21 and Older)\nCLICK HERE FOR 
 HAPPY HOUR DEALS\nCLICK HERE REACH OUR VENUE'S PAGE\nCLICK HERE FOR OU
 R BAND/DJ PAGE\n\nFor more information visit https://vbnightlife.com/e
 vents/click-here-for-thursday-7-19-12-virginia-beach-entertainment-lis
 t
DTSTART:20120719T040000Z
DTEND:20120720T035900Z
CATEGORIES:"virginia beach entertainment", "virginia beach nightlife",
  "virginia beach bands"
LOCATION:Virginia Beach
WEBSITE:
URL:
CONTACT:
ORGANIZER:VBnightlife.com (Dionna Campanella)
ATTACH;FMTTYPE="image/jpeg":http://storage.ning.com/topology/rest/1.0/
 file/get/1664171536?profile=original
ATTENDEE;ROLE=REQ-PARTICIPANT;PARTSTAT=ACCEPTED;RSVP=TRUE;CN="VBnightl
 ife.com":https://vbnightlife.com/profile/admin
END:VEVENT
END:VCALENDAR
