BEGIN:VCALENDAR
PRODID:NingEventWidget-v1
VERSION:2.0
METHOD:PUBLISH
BEGIN:VEVENT
UID:2508951:Event:312111
DTSTAMP:20260424T132915Z
SUMMARY:Click here for THURSDAY 7/16/15 Events and Entertainment Listi
 ng
DESCRIPTION:SPECIAL EVENTS\nMartinis and ManicuresÂ Benefit - Eagles N
 est -Hilltop- Â 6 to 9p\nChicho's StrawbridgeÂ Miss ECSC Preliminary R
 ound 5Â  8p\nTinto Wine & CheeseÂ - Hilltop- \"Cheese Please\" Sample 
 cheese and wine from around the world 5 to 8p\nAssociation for Researc
 h and Enlightenment (A.R.E.) Oceanfront Click for events calendar Toda
 y's special Bookstore event: Pendulum and Dowsing Class 5:30 to 8p det
 ails\nMuseum of Contemporary Art (MOCA) FAMILY NIGHTÂ +Â Now on Exhibi
 tÂ \nAdventure ParkÂ at the Virginia AquariumÂ - Glow in the ParkÂ ope
 n 7 to 11p with DJ Lyfe 7 to 10p - $3 OffÂ Discounted Admission With P
 romo Code GLOW hereÂ http://bit.ly/1FhDqIF\n\nLive Music\n\n7th Street
  - Seth Stainback & RoosterfootÂ 6p\n24th St Park - Krendl & Company M
 agical Variety Show 7:30p\n31st StÂ Park -TFC Band 6p\n34th St Stage-Â
  Lewis McGeheeÂ 6p\nAbbey Road Pub - Bernie & Sherri 8:30p\nBahama Bre
 eze Island GrilleÂ - John Baldwin 4p\nBoneshakers - Live Music 7 - 11p
  on the patio\nCalypso Bar & Grill - Atlantic Ave- Cody Austin Â 6p\nC
 hops - Home Republic Patio - Matt Redford 6p\nDoc Taylor's Seaside Mar
 ket Lounge -Â Naughty ProfessorÂ 8p\nEagles Nest -Hilltop-Â Martinis a
 nd ManicuresÂ Benefit 6 to 9p\nFroggie's Cantina By The BayÂ -Shore Dr
 ive-Â Chris Johnson of 710OIL 8p\nIce HouseÂ - Live Music 9p\nKeagan's
  Irish Pub -Town Center-Â Steve Forss 10p*\nLongshots Billiards & Dart
 s- Chesapeake- Beer Pong & Corn Hole* - Hottest Night of the Week\nMur
 phy's Irish Pub -Â Julz GatzÂ 9p\nRY Lounge - Oceanfront - Social Thur
 sday, Ladies Night w/ DJ Punisha\nTapped GastropubÂ - Hilltop -Â BJ Sp
 otlight 9p\nTempt Restaurant and Lounge- 1/2 price wine all night + Li
 ana Duet 9p\nWing King - Rosemont -Â Ray MeeksÂ 9p COUPON\nWing King -
  Kempsville -Â Open MicÂ 9p COUPON\nWoody McGees - Holland RoadÂ -Â Da
 ve JohnsonÂ 9pÂ \n\nFor more information visit https://vbnightlife.com
 /events/click-here-for-thursday-7-16-15-events-and-entertainment-listi
 ng
DTSTART:20150716T040000Z
DTEND:20150717T035900Z
CATEGORIES:"virginia beach", "virginia beach nightlife", "events in vi
 rginia beach", "virginia beach bands", "virginia beach entertainment"
LOCATION:Virginia Beach, VA
WEBSITE:
URL:
CONTACT:
ORGANIZER:VBnightlife.com / vbdaylife
ATTACH;FMTTYPE="image/jpeg":http://storage.ning.com/topology/rest/1.0/
 file/get/1664274834?profile=original
ATTENDEE;ROLE=REQ-PARTICIPANT;PARTSTAT=ACCEPTED;RSVP=TRUE;CN="VBnightl
 ife.com":https://vbnightlife.com/profile/admin
END:VEVENT
END:VCALENDAR
