BEGIN:VCALENDAR
PRODID:NingEventWidget-v1
VERSION:2.0
METHOD:PUBLISH
BEGIN:VEVENT
UID:2508951:Event:199515
DTSTAMP:20260422T224701Z
SUMMARY:Click here for THURSDAY 7/12/12 VIRGINIA BEACH ENTERTAINMENT L
 ISTINGS
DESCRIPTION:LIVE ENTERTAINMENT\n7th Street Stage- Cheap Thrills, 6-10P
 M\n11th Street Taphouse- Isaac Gay, 7-10PM\n13th Street- The Life and
  Music of Ella Fitzgerald, 7-10PM\n17th Street Stage- Special Trapeze 
 Circus, 7:30PM,8:30PM,9:30PM\n24th Street Park- Krendle & Company Magi
 cal Variety Show, 7:30, 8:30PM,9:30PM\n25th Street- Naval Airpower Leg
 acy, 8:45 & 9:30PM\n31st Street Stage- Hotcakes, 6-10PM\nBoneshakers- 
 Red Stapler, 8:30 to 11 + Prime Rib night every Thursday $1.50 oz cut 
 to order -Happy Hour 3 to 7\nAbbey Road- Mike Proffitt\nCinema Cafe (P
 embroke)- Comedy Night, 9-11PM\nCalypso- Live Entertainment, w/ Rock-e
 -oke, 6-10PM\nDoc Taylors Seaside Market Lounge- The Inflatables, 8:30
 PM\nFinn McCools- Live Entertainment\nGreen Parrot- Open Mic w/ Dahna 
 Rowe\nGrumyp's- Gangsters of Love\nH20- Jesse Chong, 10PM\nHavanah Nig
 hts- Cocktail Piano (Wed.-Sat.,) w/Justin Kauflin,5-7PM, Justin Kaufl
 in Trio, 8 -11PM\nIL Giardino- Live Entertainment in the lounge w/ Mr
 . Billy Batte- 7PM\nKeagans- Steve Forss & Robert Coates,10PM\nLa Casa
  Rana- Live Entertainment\nMurphys- Pridemore, 9PM\nO'Learys- (Lynnhav
 en Dr) Service Industry Night, 10PM\nOmega's- Sexy Thursday's w/ DJ At
 revete (Every Thursday)\nPoppas Pub- Open Mic w/ Common Ground, 7PM\nS
 alty C's- (Shore Dr) Open Mic\nScandals- Blackwater Jam\nSouth Beach G
 rill- Open Mic\nStarz- Open Mic w/ Fo Mo Hoz, 8:30PM\nTayst- Half pric
 e bottle of wine night (Every Thursday)\nWoody McGees- Live Entertainm
 ent, 9:30PM-12:30AM\n \nTHEATRE/FUNDRAISERS/CONCERTS/SPORTS:\n \nFAM
 ILY FUN/SPECIAL EVENTS:\nOld Coast Guard Station- Shipwrecks and Ghost
 lore, 7:30-9PM\nLittle Island Park- Landon Stark and Victoria Phelps, 
 6-8PM\nVirginia MOCA- Andy Warhol\n \nDJ’S/KARAOKE/DANCES:\nRetro C
 afe- Karaoke\nGreen Parrot- Open Mic w/ Dahna Rowe\nSecrets- Karaoke w
 / El Mike, 9PM-1AM\nWannaB's- KARAOKE 7 PM - 2 AM  Monday - Saturday 
 (21 and Older)\nCLICK HERE FOR HAPPY HOUR DEALS\nCLICK HERE REACH OUR 
 VENUE'S PAGE\nCLICK HERE FOR OUR BAND/DJ PAGE\n\nFor more information 
 visit https://vbnightlife.com/events/click-here-for-thursday-7-12-12-v
 irginia-beach-entertainment-list
DTSTART:20120712T040000Z
DTEND:20120713T035900Z
CATEGORIES:"virginia beach entertainment", "virginia beach nightlife",
  "virginia beach bands"
LOCATION:Virginia Beach
WEBSITE:
URL:
CONTACT:
ORGANIZER:VBnightlife.com (Dionna Campanella)
ATTACH;FMTTYPE="image/jpeg":http://storage.ning.com/topology/rest/1.0/
 file/get/1664171285?profile=original
ATTENDEE;ROLE=REQ-PARTICIPANT;PARTSTAT=ACCEPTED;RSVP=TRUE;CN="VBnightl
 ife.com":https://vbnightlife.com/profile/admin
END:VEVENT
END:VCALENDAR
