BEGIN:VCALENDAR
PRODID:NingEventWidget-v1
VERSION:2.0
METHOD:PUBLISH
BEGIN:VEVENT
UID:2508951:Event:195494
DTSTAMP:20260423T014436Z
SUMMARY:Click here for THURSDAY 6/21/12 VIRGINIA BEACH ENTERTAINMENT L
 ISTINGS
DESCRIPTION:LIVE ENTERTAINMENT\n7th Street Stage- Cheap Thrills, 6-10P
 M\n17th Street Park- Excess, 8-10:30PM\n27th Street- Family Great Adve
 nture Series\n31st Street Stage- Spider Love, 6-10PM\n11th Street Taph
 ouse- Joe Heilman, 7-10PM\nBoneshakers- Hotcakes, 8:30 to 11 + Prime R
 ib night every Thursday $1.50 oz cut to order -Happy Hour 3 to 7\nAbbe
 y Road- Mike Proffitt\nCinema Cafe (Pembroke)- Comedy Night, 9-11PM\nC
 alypso- Live Entertainment, w/ Rock-e-oke, 6-10PM\nDoc Taylors Seaside
  Market Lounge- Mike Dillon Band, 8:30PM\nGreen Parrot- Open Mic w/ Da
 hna Rowe\nH20- Karl Werne, 6-9PM, Jesse Chong, 10PM\nHavanah Nights- C
 ocktail Piano (Wed.-Sat.,) w/Justin Kauflin,5-7PM, Justin Kauflin Tri
 o, 8 -11PM\nIL Giardino- Live Entertainment in the lounge w/ Mr. Bill
 y Batte- 7PM\nKeagans- Steve Forss, 10PM\nLa Casa Rana- River Boyz and
  Ever After\nMurphys- The Havers, 9PM\nO'Learys- (Lynnhaven Dr) Servic
 e Industry Night, 10PM\nOmega's- Sexy Thursday's w/ DJ Atrevete (Every
  Thursday)\nShorebreak- Lewis McGehee\nSalty C's- (Shore Dr) Open Mic\
 nStarz- Open Mic w/ Fo Mo Hoz, 8:30PM\nTayst- Half price bottle of win
 e night (Every Thursday)\nWoody McGees- The Dentz Band, 9:30PM-12:30AM
 \n \nTHEATRE/FUNDRAISERS/CONCERTS/SPORTS:\nFunny Bone Comedy Club\nHa
 rbor Park- Norfolk Tides Baseball, 12:15PM\n\nFAMILY FUN/SPECIAL EVENT
 S:\nHRBOR: Third Thursday, 5th Anniversary Extravaganza\nCarnival at M
 t. Trashmore\nVirginia MOCA- Andy Warhol\n\nDJ’S/KARAOKE/DANCES:\nRe
 tro Cafe- Karaoke\nGreen Parrot- Open Mic w/ Dahna Rowe\nPoppa’s Pub
  - *KARAOKE* 9:30PM\nSecrets- Karaoke w/ El Mike, 9PM-1AM\nWannaB's- K
 ARAOKE 7 PM - 2 AM  Monday - Saturday (21 and Older)\nCLICK HERE FOR 
 HAPPY HOUR DEALS\nCLICK HERE REACH OUR VENUE'S PAGE\nCLICK HERE FOR OU
 R BAND/DJ PAGE\n\nFor more information visit https://vbnightlife.com/e
 vents/click-here-for-thursday-6-21-12-virginia-beach-entertainment-lis
 t
DTSTART:20120621T040000Z
DTEND:20120622T035900Z
CATEGORIES:"virginia beach entertainment", "virginia beach bands", "vi
 rginia beach nightlife"
LOCATION:Virginia Beach
WEBSITE:
URL:
CONTACT:
ORGANIZER:VBnightlife.com (Dionna Campanella)
ATTACH;FMTTYPE="image/jpeg":http://storage.ning.com/topology/rest/1.0/
 file/get/1664169726?profile=original
ATTENDEE;ROLE=REQ-PARTICIPANT;PARTSTAT=ACCEPTED;RSVP=TRUE;CN="VBnightl
 ife.com":https://vbnightlife.com/profile/admin
END:VEVENT
END:VCALENDAR
