BEGIN:VCALENDAR
PRODID:NingEventWidget-v1
VERSION:2.0
METHOD:PUBLISH
BEGIN:VEVENT
UID:2508951:Event:336276
DTSTAMP:20260421T041127Z
SUMMARY:Click here for THURSDAY 4/28/16 Events and Entertainment Listi
 ng
DESCRIPTION:\nSPECIAL EVENTS\nColonial Shooting Academy: Lunch Specia
 ls on shooting 11am to 3pm + Members share lane with a guest for fr
 ee - open to close  details\nMuseum of Contemporary Art (MOCA) Now 
 on Exhibit\n\nLive Entertainment\nAbbey Road Pub - Thirsty Thursdays 
 \nBella Monte Restaurant & Enoteca - 1201 Laskin Rd - Charlie Wisem
 an on 9-foot concert grand piano 6:30 to 9:30p\nBoneshakers - Happy 
 Hour until 9p\nBucketheads Beach Grill - Open Mic w/Tim Hopkins 7p \n
 Doc Taylor's Seaside Market Lounge -  8p\nEagles Nest - Hilltop - Ope
 n Mic 8p\nFinn McCool's -  8p\nFroggie's Cantina By The Bay - Shore 
 Drive - Mike Proffitt & Dana Silvercloud 7p\nIce House - 8:30p\nJerry'
 s Restaurant & Lounge -Chesapeake- Tenacious Keys 9:30p\nKeagan's Iris
 h Pub -Town Center- Steve Forss 10p\nLongshots Billiards & Darts- Ches
 apeake- Beer Pong & Corn Hole* - Hottest Night of the Week\nLucky Oyst
 er -  9p\nPoppa's Pub - Open Mic w/Laced Up 7p\nRY Lounge - Oceanfron
 t - Social Thursday, Ladies Night w/ DJ Punisha\nShaka's Live -  7p\n
 South Beach Grill -  7p\nTapped Gastropub- Hilltop - BC Trio 9p\nTemp
 t Restaurant and Lounge- 1/2 price wine all night\nTradewinds -  6p\n
 Tubby's Tavern - Back Bay Brewing 5p\nWing King - Rosemont -  9p\nWin
 g King - Kempsville - Texas Hold 'Em Tournament 7p Karaoke 8p\nWoody
  McGees - Holland Road -  9p\n\n\n\nFor more information visit https
 ://vbnightlife.com/events/click-here-for-thursday-4-28-16-events-and-e
 ntertainment-listing
DTSTART:20160428T040000Z
DTEND:20160429T035900Z
CATEGORIES:"virginia beach", "virginia beach nightlife", "events in vi
 rginia beach", "virginia beach bands", "virginia beach entertainment"
LOCATION:Virginia Beach, VA
WEBSITE:
URL:
CONTACT:
ORGANIZER:VBnightlife.com / vbdaylife
ATTACH;FMTTYPE="image/jpeg":http://storage.ning.com/topology/rest/1.0/
 file/get/1664309379?profile=original
ATTENDEE;ROLE=REQ-PARTICIPANT;PARTSTAT=ACCEPTED;RSVP=TRUE;CN="VBnightl
 ife.com":https://vbnightlife.com/profile/admin
END:VEVENT
END:VCALENDAR
