BEGIN:VCALENDAR
PRODID:NingEventWidget-v1
VERSION:2.0
METHOD:PUBLISH
BEGIN:VEVENT
UID:2508951:Event:213021
DTSTAMP:20260424T141918Z
SUMMARY:Click here for THURSDAY 4/11/13 VIRGINIA BEACH ENTERTAINMENT L
 ISTINGS
DESCRIPTION:LIVE ENTERTAINMENT/ DJâ€™S/ KARAOKE:\nAberdeen Barn- Bryan
  Dunn 6pm\nBayside Bar- Live Acoustic Show 8:30pm\nBayside Inn- Musici
 ans Collaboration with Scott Shot Cohen\nBoneshakers Sports Bar and Gr
 illÂ  Â - Anthony & The Conqueroos\nDoc Taylors- UV Hippo 8:30pm\nGree
 n Parrot- Open Mic w/ Dahna Rowe\nGrumpys- Vinyl Headlights\nIl Giardi
 no's â€“ Billy Batte\nJewish Mother- The Supervillains, Malt Liquor, S
 undae, Invaluable 8pm\nKeagans- Steve Forss & Robert Coates\nSalty Câ€
 ™s- Open Mic\nScandals- Borderline Crazy 8pm-12am\nSmoked Out- FM 99 B
 attle of the Bands\nWing King Rosemont Rd- Landon Tucker\nWoody McGees
  Barstro â€“ Dave Johnson\nÂ \nÂ \nSPECIAL EVENTS/CONCERTS/ FESTIVALS:
 \nVirginia Stage Companyâ€™s The Odd Couple â€“ Wells Theatre\nRinglin
 g Brothers and Barnum & Bailey Presents Built to Amaze- Norfolk Scope\
 nComedy at the CafÃ©- Cinema CafÃ© Pembroke Meadows\nCirque Du Soleilâ
 €™s Quidam- Ted Constant Center\nHampton Roads Marketing Association L
 unch- Virginia Beach Convention Center\nVirginia Beach Funny Bone- Ton
 y Woods\nÂ \nÂ \nCLICK HERE FOR HAPPY HOUR DEALS FEATURING SEVERAL LOC
 AL RESTAURANTS DAILY SPECIALS\nÂ \nCLICK HERE REACH OUR VENUE'S PAGEÂ 
 TO FIND ADDRESSES AND PHONE NUMBERS OF PLACES LISTED\nÂ \nCLICK HERE F
 OR OUR BAND/DJ PAGEÂ TO FIND DESCRIPTION OF THE BANDS AND LINKS TO THE
 IR WEB PAGES\n\nFor more information visit https://vbnightlife.com/eve
 nts/click-here-for-thursday-4-11-13-virginia-beach-entertainment-list
DTSTART:20130411T040000Z
DTEND:20130412T035900Z
CATEGORIES:"virginia beach", "virginia beach nightlife", "virginia bea
 ch bands"
LOCATION:Virginia Beach, VA
WEBSITE:
URL:
CONTACT:
ORGANIZER;CN="VBnightlife.com":https://vbnightlife.com/profile/admin
ATTACH;FMTTYPE="image/jpeg":http://storage.ning.com/topology/rest/1.0/
 file/get/1664189023?profile=original
ATTENDEE;ROLE=REQ-PARTICIPANT;PARTSTAT=ACCEPTED;RSVP=TRUE;CN="VBnightl
 ife.com":https://vbnightlife.com/profile/admin
END:VEVENT
END:VCALENDAR
