BEGIN:VCALENDAR
PRODID:NingEventWidget-v1
VERSION:2.0
METHOD:PUBLISH
BEGIN:VEVENT
UID:2508951:Event:334332
DTSTAMP:20260419T161629Z
SUMMARY:Click here for THURSDAY 3/31/16 Events and Entertainment Listi
 ng
DESCRIPTION:\nSPECIAL EVENTS\nColonial Shooting Academy: Lunch Specia
 ls on shooting 11am to 3pm + Members share lane with a guest for fr
 ee - open to close details \nTinto Wine & Cheese - Hilltop - \"Che
 ese Please\" Sample cheese and wine from around the world 5 to 8p\nMus
 eum of Contemporary Art (MOCA) Now on Exhibit\n\nLive Entertainment\n
 Abbey Road Pub - Thirsty Thursdays \nBella Monte Restaurant & Enoteca
  - 1201 LaskinL Rd - Charlie Wiseman on 9-foot concert grand piano
  6:30 to 9:30p\nBoneshakers - Straight Face 7p\nBucketheads Beach Gri
 ll - Open Mic w/Tim Hopkins 7p \nChicho's Strawbridge - Dave Johnson 
 8 to 11pm\nChurch Point Manor - Michelle King & The Blue Mile 6p\nDoc 
 Taylor's Seaside Market Lounge - Broccoli Samurai 8p\nEagles Nest - Hi
 lltop - Open Mic 8p\nFroggie's Cantina By The Bay - Shore Drive - Mik
 e Proffitt & Dana Silvercloud 7p\nIce House - Jack Becker 8:30p\nJerry
 's Restaurant & Lounge -Chesapeake- Tenacious Keys 9:30p\nKeagan's Iri
 sh Pub -Town Center- Steve Forss 10p\nLongshots Billiards & Darts- Che
 sapeake- Beer Pong & Corn Hole* - Hottest Night of the Week\nPoppa's P
 ub - Open Mic w/Laced Up 7p\nRY Lounge - Oceanfront - Social Thursday,
  Ladies Night w/ DJ Punisha\n Tapped Gastropub- Hilltop - A lil Les C
 hris 9p\nTempt Restaurant and Lounge- 1/2 price wine all night\n Wing
  King - Rosemont - Gombas & Chris 9p\nWing King - Kempsville - Texas 
 Hold 'Em Tournament 7p Karaoke 8p\nWoody McGees - Holland Road - Vin
 ce Kornegay 9p\n\n\n\nFor more information visit https://vbnightlife.c
 om/events/click-here-for-thursday-3-31-16-events-and-entertainment-lis
 ting
DTSTART:20160331T040000Z
DTEND:20160401T035900Z
CATEGORIES:"virginia beach", "virginia beach nightlife", "events in vi
 rginia beach", "virginia beach bands", "virginia beach entertainment"
LOCATION:Virginia Beach, VA
WEBSITE:
URL:
CONTACT:
ORGANIZER:VBnightlife.com / vbdaylife
ATTACH;FMTTYPE="image/jpeg":http://storage.ning.com/topology/rest/1.0/
 file/get/1664304099?profile=original
ATTENDEE;ROLE=REQ-PARTICIPANT;PARTSTAT=ACCEPTED;RSVP=TRUE;CN="VBnightl
 ife.com":https://vbnightlife.com/profile/admin
END:VEVENT
END:VCALENDAR
