BEGIN:VCALENDAR
PRODID:NingEventWidget-v1
VERSION:2.0
METHOD:PUBLISH
BEGIN:VEVENT
UID:2508951:Event:278077
DTSTAMP:20260421T092653Z
SUMMARY:Click here for FRIDAY 3/28/14 VIRGINIA BEACH ENTERTAINMENT LIS
 TINGS
DESCRIPTION:\nWe have compiled this list of events for your convenienc
 e\nFor Locals, By Locals\n If you know of an event, fundraiser, band o
 r establishment that is not listed here, we want to know! Â  email nic
 ole@vbnightlife.comÂ to give us your feedback and suggestions Â \nÂ \n
 LIVE ENTERTAINMENT/ DJâ€™S/ KARAOKE:\n11th Street Taphouse- Brian Gril
 li Band\n15th StreetTaphouse- Motor PsychicÂ 9pm\nAJ Gators - Mike DeM
 oss 9pm\nCP Shuckers- Karoke 9pm\nFinn McCools- Dustin Furlow\nHarryOâ
 €™s- DJ Jon 9pm\nHot Tuna- DJ OHboy\nJagerâ€™s- Â Mack's Daddy 9pm\nKe
 agans- Tom and Nate\nLuckyâ€™s Cantina- Jack Becker\nMurphyâ€™s- The F
 ighting Jamesons\nPeabodyâ€™s- Ladies Night\nPoppaâ€™s Pub- Cover This
 \nSide Street cantina - Vivian Payne 10pm\nSouth Beach Grill- Karnival
 e\nWing King- Natures Child\nWanna Bâ€™s Karaoke Club- Karaoke 12pm- 7
 pm\nWatermans- DJ Rays 10PM\nWoody McGees- Nitro Fish\n\nSPECIAL EVENT
 S/CONCERTS/ FESTIVALS:\nLittle Theatre Of Virginia Beach- Good People\
 nGeneric Theatre- Opus\nÂ \nPlease note thatÂ bookings can change at t
 he last minute. Â If times are notÂ available, we recommend checking w
 ith the venue before heading out!Â \n\nCLICK HERE FOR THE BEST DEALS &
  COUPONSÂ IN VIRGINIA BEACH FEATURING EXCLUSIVE BARGAINS\n\nCLICK HERE
  FOR HAPPY HOUR DEALS FEATURING SEVERAL LOCAL RESTAURANTS DAILY SPECIA
 LS\n\nCLICK HERE REACH OUR VENUE'S PAGEÂ TO FIND ADDRESSES AND PHONE N
 UMBERS OF PLACES LISTED\n\nCLICK HERE FOR OUR BAND/DJ PAGEÂ TO FIND DE
 SCRIPTION OF THE BANDS AND LINKS TO THEIR WEB PAGES\n\nFor more inform
 ation visit https://vbnightlife.com/events/click-here-for-thursday-3-2
 7-14-virginia-beach-entertainment
DTSTART:20140328T040000Z
DTEND:20140329T035900Z
CATEGORIES:events, "things to do", "coastal virginia events", "virgini
 a beach", "virginia beach nightlife", "virginia beach bands", "virgini
 a beach entertainment"
LOCATION:VIRGINIA BEACH, VA
WEBSITE:
URL:
CONTACT:
ORGANIZER;CN="VBnightlife.com":https://vbnightlife.com/profile/admin
ATTACH;FMTTYPE="image/jpeg":http://storage.ning.com/topology/rest/1.0/
 file/get/1664224448?profile=original
ATTENDEE;ROLE=REQ-PARTICIPANT;PARTSTAT=ACCEPTED;RSVP=TRUE;CN="VBnightl
 ife.com":https://vbnightlife.com/profile/admin
END:VEVENT
END:VCALENDAR
