BEGIN:VCALENDAR
PRODID:NingEventWidget-v1
VERSION:2.0
METHOD:PUBLISH
BEGIN:VEVENT
UID:2508951:Event:278155
DTSTAMP:20260421T092730Z
SUMMARY:Click here for THURSDAY 3/27/14 VIRGINIA BEACH ENTERTAINMENT L
 ISTINGS
DESCRIPTION:\nWe have compiled this list of events for your convenienc
 e\nFor Locals, By Locals\n If you know of an event, fundraiser, band o
 r establishment that is not listed here, we want to know!  email nico
 le@vbnightlife.com to give us your feedback and suggestions  \n \nL
 IVE ENTERTAINMENT/ DJ’S/ KARAOKE:\nFinn McCools- Brandon Bower 10pm\
 nFroggies- Johnny Bland 10pm\nIl Giardino's - Billy Batte 7pm\nJager
 s- Southern Profets\nKeagans- Steve Forss \nMurphy’s- Jesse Chong 
 10pm\nPeabody’s- College Night\nSand Bar- Karaoke/w DJ Skittlz 9pm\n
 South Beach Grill- Yogi & Good O”l\nIl Giardino's - Billy Batte 7pm\
 nWanna B’s Karaoke Club- Karaoke 12pm- 7pm\nWoody McGees- Shuffle Br
 others\n\nSPECIAL EVENTS/CONCERTS/ FESTIVALS:\nHell's Kitchen Norfolk 
 - ABSOLUT ARTINI HAPPY HOUR AT Hell's Kitchen - BENEFIT FOR VIRGINIA 
 MOCA\nFunny Bone- Jim Norton 8pm\nMOCA- Pre-K Art Day\nGeneric Theatre
 - Opus\nLittle Theatre Of Virginia Beach- Good People\nFerguson Center
  For The Arts-Brad Garrett & Rita Rudner 7:30pm\nThe American Theatre-
  Triovaltorna 7:30pm\n\nPlease note that bookings can change at the l
 ast minute.  If times are not available, we recommend checking with 
 the venue before heading out! \n\nCLICK HERE FOR THE BEST DEALS & COU
 PONS IN VIRGINIA BEACH FEATURING EXCLUSIVE BARGAINS\n\nCLICK HERE FOR
  HAPPY HOUR DEALS FEATURING SEVERAL LOCAL RESTAURANTS DAILY SPECIALS\n
 \nCLICK HERE REACH OUR VENUE'S PAGE TO FIND ADDRESSES AND PHONE NUMBE
 RS OF PLACES LISTED\n\nCLICK HERE FOR OUR BAND/DJ PAGE TO FIND DESCRI
 PTION OF THE BANDS AND LINKS TO THEIR WEB PAGES\n\nFor more informatio
 n visit https://vbnightlife.com/events/click-here-for-thursday-3-27-14
 -virginia-beach-entertainment-list
DTSTART:20140327T040000Z
DTEND:20140328T035900Z
CATEGORIES:events, "things to do", "coastal virginia events", "virgini
 a beach", "virginia beach nightlife", "virginia beach bands", "virgini
 a beach entertainment"
LOCATION:VIRGINIA BEACH, VA
WEBSITE:
URL:
CONTACT:
ORGANIZER;CN="VBnightlife.com":https://vbnightlife.com/profile/admin
ATTACH;FMTTYPE="image/jpeg":http://storage.ning.com/topology/rest/1.0/
 file/get/1664224551?profile=original
ATTENDEE;ROLE=REQ-PARTICIPANT;PARTSTAT=ACCEPTED;RSVP=TRUE;CN="VBnightl
 ife.com":https://vbnightlife.com/profile/admin
ATTENDEE;ROLE=REQ-PARTICIPANT;PARTSTAT=TENTATIVE;RSVP=TRUE;CN="Charlot
 te Vandergrifft":https://vbnightlife.com/profile/CharlotteVandergrifft
END:VEVENT
END:VCALENDAR
