BEGIN:VCALENDAR
PRODID:NingEventWidget-v1
VERSION:2.0
METHOD:PUBLISH
BEGIN:VEVENT
UID:2508951:Event:334476
DTSTAMP:20260422T091546Z
SUMMARY:Click here for THURSDAY 3/24/16 Events and Entertainment Listi
 ng
DESCRIPTION:\nSPECIAL EVENTS\nVirginia MOCA - Artist Talk 6:30 http:/
 /vbnightlife.com/events/artist-talk-with-courtney-mattison-and-kip-eva
 ns\nColonial Shooting Academy: Lunch Specials on shooting 11am to 3p
 m + Members share lane with a guest for free - open to close detai
 ls \nTinto Wine & Cheese - Hilltop - \"Cheese Please\" Sample cheese
  and wine from around the world 5 to 8p\nMuseum of Contemporary Art (M
 OCA) Now on Exhibit\n\nLive Entertainment\nAbbey Road Pub - Thirsty T
 hursdays \nBella Monte Restaurant & Enoteca - 1201 LaskinL Rd - Ch
 arlie Wiseman on 9-foot concert grand piano 6:30 to 9:30p\nBoneshake
 rs - Happy Hour until 9p\nBucketheads Beach Grill - Open Mic w/Tim Hop
 kins 7p \nDoc Taylor's Seaside Market Lounge - Anthony Rosano & The C
 onqueroos 8p\nEagles Nest - Hilltop - Open Mic 8p\nFinn McCool's - Mik
 e DeMoss 8p\nFroggie's Cantina By The Bay - Shore Drive - Intangible 
 Cats 8p\nIce House - 8:30p\nJerry's Restaurant & Lounge -Chesapeake- T
 NT Karaoke 9:30p\nKeagan's Irish Pub -Town Center- Steve Forss 10p\nLo
 ngshots Billiards & Darts- Chesapeake- Beer Pong & Corn Hole* - Hottes
 t Night of the Week\nLucky Oyster - 8:30p\nMurphy's Irish Pub -  7p\n
 Poppa's Pub - Open Mic w/Laced Up 7p\nRY Lounge - Oceanfront - Social 
 Thursday, Ladies Night w/ DJ Punisha\nShaka's Live - Like Moths to Fla
 mes, Ice Nine Kills, Light Up The Sky, RVNT, ROAR-ERS Door at 6p\nSout
 h Beach Grill - Straight Face 7p\nTapped Gastropub- Hilltop - RnR Band
  9p\nTempt Restaurant and Lounge- 1/2 price wine all night\nTradewinds
  - Wic & Wash 6p\nWing King - Rosemont - Fixity Trio 9p\nWing King - K
 empsville - Texas Hold 'Em Tournament 7p Karaoke 8p\nWoody McGees - 
 Holland Road - Muddy Gems 9p\n\n\n\nFor more information visit https:
 //vbnightlife.com/events/click-here-for-thursday-3-24-16-events-and-en
 tertainment-listing
DTSTART:20160324T040000Z
DTEND:20160325T035900Z
CATEGORIES:"virginia beach", "virginia beach nightlife", "events in vi
 rginia beach", "virginia beach bands", "virginia beach entertainment"
LOCATION:Virginia Beach, VA
WEBSITE:
URL:
CONTACT:
ORGANIZER:VBnightlife.com / vbdaylife
ATTACH;FMTTYPE="image/jpeg":http://storage.ning.com/topology/rest/1.0/
 file/get/1664304308?profile=original
ATTENDEE;ROLE=REQ-PARTICIPANT;PARTSTAT=ACCEPTED;RSVP=TRUE;CN="VBnightl
 ife.com":https://vbnightlife.com/profile/admin
END:VEVENT
END:VCALENDAR
