BEGIN:VCALENDAR
PRODID:NingEventWidget-v1
VERSION:2.0
METHOD:PUBLISH
BEGIN:VEVENT
UID:2508951:Event:210977
DTSTAMP:20260421T031253Z
SUMMARY:Click here for THURSDAY 2/28/13 VIRGINIA BEACH ENTERTAINMENT L
 ISTINGS
DESCRIPTION:LIVE ENTERTAINMENT/ DJâ€™S/ KARAOKE:\n7 Martini & Tapas- D
 J\nAberdeen Barn- Bryan Dunn\nBayside Inn- Musicians Collaboration wit
 h Barry Hicks\nFinn McCools- Steve Forss\nGreen Parrot- Open Mic w/ Da
 hna Rowe\nGrumpys- Gangsters of Love\nIl Giardino's â€“Billy Batte\nKe
 agans- Steve Forss & Robert Coates\nWing King- Comedy Club\nWoody McGe
 es Barstro â€“ Mike DeMoss\nÂ \nSPECIAL EVENTS/CONCERTS/ FESTIVALS:\nJ
 ay Phillips-Virginia Beach Funny Bone\nComedy At The CafÃ©- Pembroke M
 eadows Cinema CafÃ©\nEverywoman- Studio Theatre in Founders Inn\nÂ \nÂ
  \nCLICK HERE FOR HAPPY HOUR DEALS FEATURING SEVERAL LOCAL RESTAURANTS
  DAILY SPECIALS\nÂ \nCLICK HERE REACH OUR VENUE'S PAGEÂ TO FIND ADDRES
 SES AND PHONE NUMBERS OF PLACES LISTED\nÂ \nCLICK HERE FOR OUR BAND/DJ
  PAGEÂ TO FIND DESCRIPTION OF THE BANDS AND LINKS TO THEIR WEB PAGES\n
 \nFor more information visit https://vbnightlife.com/events/click-here
 -for-thursday-2-28-13-virginia-beach-entertainment-list
DTSTART:20130228T050000Z
DTEND:20130301T045900Z
CATEGORIES:"virginia beach", "virginia beach nightlife", "virginia bea
 ch bands"
LOCATION:Virginia Beach, VA
WEBSITE:
URL:
CONTACT:
ORGANIZER;CN="VBnightlife.com":https://vbnightlife.com/profile/admin
ATTACH;FMTTYPE="image/jpeg":http://storage.ning.com/topology/rest/1.0/
 file/get/1664184736?profile=original
ATTENDEE;ROLE=REQ-PARTICIPANT;PARTSTAT=ACCEPTED;RSVP=TRUE;CN="VBnightl
 ife.com":https://vbnightlife.com/profile/admin
END:VEVENT
END:VCALENDAR
