BEGIN:VCALENDAR
PRODID:NingEventWidget-v1
VERSION:2.0
METHOD:PUBLISH
BEGIN:VEVENT
UID:2508951:Event:189264
DTSTAMP:20260423T082942Z
SUMMARY:Click here for THURSDAY 2/23/12 NORFOLK ENTERTAINMENT LISTING
DESCRIPTION:ENTERTAINMENT\nBoneshakers - Jack Becker 8:30 to 11 + Pr
 ime Rib night every Thursday $1.50 oz cut to order -Happy Hour 3 to 7\
 nCinema Cafe (Pembroke)- Comedy Night, 9-11PM\nDiesel- Diesel Mug Nigh
 t w/ Snackbar Jones\nDoc Taylors Seaside Market Lounge- Octopus, 8:30P
 M\nFlashbacks- Red Stapler\nGuadalajara - (Town Center) Throwback Thur
 sday with DJ Bee 10PM  (every thursday)\nHavana Nights- Joe Locke w/ 
 John Toomey Trio, 8-11PM\nH20- Jesse Chong\nIcehouse - Brent Shepard, 
 9PM (Every Thursday this Month), 9PM\nIL Giardino- Live Entertainment 
 in the lounge w/ Mr. Billy Batte- 7PM\nJewish Mother- Eric Lindell & S
 eth Stainback\nKeagans- Live Music, 10PM\nO'Learys- (Lynnhaven Dr) Ser
 vice Industry Night, 10PM\nSalty C's- (Shore Dr) Open Mic\nVenezianos-
  Fred and Denise\n\n \nTHEATRE/FUNDRAISERS/CONCERTS/SPORTS:\nFunny Bo
 ne Comedy Club - Clash of the Comics- Mar. 13th\nFarm Bureau- The Beac
 h Boys 50th Anniversary Tour (July 3), Preseale Tickets 10AM-10PM\nSco
 pe- 2012 Eastern Region High School Basketball Tournament\nWells Theat
 re- Death of a Salesman\nChrysler Hall- Mr. Marmalade, 8PM\nChesapeake
  Conference Center- Score Big 2012\nSandler Center- The Golden Boys, 7
 :30PM\n\n \nDJ’S/KARAOKE/DANCES:\nAdams Lounge- Open Mic w/ The Sta
 rs Full\nRetro Cafe- Karaoke\nChicho’s 29th - *KARAOKE\nGreen Parrot
 - Open Mic w/ Dahna Rowe\nPoppa’s Pub - *KARAOKE* 9:30PM\nJewish Mot
 her- MOMS KARAOKE 8pm\nWannaB's- KARAOKE 7 PM - 2 AM  Monday - Saturd
 ay (21 and Older)\n\nCLICK HERE FOR HAPPY HOUR DEALS\nCLICK HERE REACH
  OUR VENUE'S PAGE\nCLICK HERE FOR OUR BAND/DJ PAGE\n\n\nFor more infor
 mation visit https://vbnightlife.com/events/click-here-for-thursday-2-
 23-12-norfolk-entertainment-listing
DTSTART:20120223T050000Z
DTEND:20120224T045900Z
CATEGORIES:"virginia beach enertainment", "virginia beach bands", "vir
 ginia beach nightlife"
LOCATION:Virginia Beach
WEBSITE:
URL:
CONTACT:
ORGANIZER;CN="VBnightlife.com":https://vbnightlife.com/profile/admin
ATTACH;FMTTYPE="image/jpeg":http://storage.ning.com/topology/rest/1.0/
 file/get/1664161487?profile=original
ATTENDEE;ROLE=REQ-PARTICIPANT;PARTSTAT=ACCEPTED;RSVP=TRUE;CN="VBnightl
 ife.com":https://vbnightlife.com/profile/admin
END:VEVENT
END:VCALENDAR
