BEGIN:VCALENDAR
PRODID:NingEventWidget-v1
VERSION:2.0
METHOD:PUBLISH
BEGIN:VEVENT
UID:2508951:Event:210960
DTSTAMP:20260420T110339Z
SUMMARY:Click here for THURSDAY 2/21/13 VIRGINIA BEACH ENTERTAINMENT L
 ISTINGS
DESCRIPTION:LIVE ENTERTAINMENT/ DJ’S/ KARAOKE:\n7 Martini & Tapas- D
 J\nAberdeen Barn- Bryan Dunn\nBayside Inn- Musicians Collaboration wit
 h Barry Hicks\nClutch- Trailerhood\nDoc Taylor's Seaside Market- The S
 hack Band\nGreen Parrot- Open Mic w/ Dahna Rowe\nGrumpys- Bad Habit\nI
 l Giardino's –Billy Batte\nKeagans- Steve Forss & Robert Coates\nLoc
 als- Butter\nMurphys- Don Bunch\nSalty C's- Open Mic\nWoody McGees Bar
 stro – Dave Johnson\n \nSPECIAL EVENTS/CONCERTS/ FESTIVALS:\nGrace 
 Potter & The Nocturnals- The Norva\nVirginia Fire Chiefs Mid-Atlantic 
 Expo & Symposium- Virginia Beach Convention Center\nHoodoo Love- Gener
 ic Theatre\nBrad Williams- Virginia Beach Funny Bone\nComedy At The Ca
 fé- Pembroke Meadows Cinema Café\nPre-K Art Days- MOCA\n \n \nCLIC
 K HERE FOR HAPPY HOUR DEALS FEATURING SEVERAL LOCAL RESTAURANTS DAILY 
 SPECIALS\n \nCLICK HERE REACH OUR VENUE'S PAGE TO FIND ADDRESSES AND
  PHONE NUMBERS OF PLACES LISTED\n \nCLICK HERE FOR OUR BAND/DJ PAGE 
 TO FIND DESCRIPTION OF THE BANDS AND LINKS TO THEIR WEB PAGES\n\nFor m
 ore information visit https://vbnightlife.com/events/click-here-for-th
 ursday-2-21-13-virginia-beach-entertainment-list
DTSTART:20130221T050000Z
DTEND:20130222T045900Z
CATEGORIES:"virginia beach", "virginia beach nightlife", "virginia bea
 ch bands"
LOCATION:Virginia Beach, VA
WEBSITE:
URL:
CONTACT:
ORGANIZER;CN="VBnightlife.com":https://vbnightlife.com/profile/admin
ATTACH;FMTTYPE="image/jpeg":http://storage.ning.com/topology/rest/1.0/
 file/get/1664185244?profile=original
ATTENDEE;ROLE=REQ-PARTICIPANT;PARTSTAT=ACCEPTED;RSVP=TRUE;CN="VBnightl
 ife.com":https://vbnightlife.com/profile/admin
END:VEVENT
END:VCALENDAR
