BEGIN:VCALENDAR
PRODID:NingEventWidget-v1
VERSION:2.0
METHOD:PUBLISH
BEGIN:VEVENT
UID:2508951:Event:324432
DTSTAMP:20260422T192439Z
SUMMARY:Click here for THURSDAY 2/18/16 Events and Entertainment Listi
 ng
DESCRIPTION:\nSPECIAL EVENTS\nMartinis & Manicures - Beach Ambassadors
  Benefit at Eagle's Nest VBÂ http://vbnightlife.com/events/martinis-an
 d-manicures-to-benefit-supporting-children-s-miracle-n\nTinto Wine & C
 heeseÂ - Hilltop - \"Cheese Please\" Sample cheese and wine from aroun
 d the world 5 to 8p\nMuseum of Contemporary Art (MOCA)Â Now on Exhibit
 \nLongshots Billiards & DartsÂ - Barpong, Cornhole, DJs\n\nLive Music\
 nAbbey Road Pub - Thirsty ThursdaysÂ \nBella Monte Restaurant & Enotec
 aÂ -Â 1201 Laskin RdÂ - Charlie Wiseman onÂ 9-foot concert grand piano
 Â 6:30 to 9:30p\nBoneshakers - Live music Â 7 - 11p on the patio\nBuck
 etheads Beach Grill - Shore Drive - Open Mic w/Â Tim HopkinsÂ 7pm\nDoc
  Taylor's Seaside Market Lounge - The JaunteeÂ 8p\nEagles Nest - Hillt
 op - Ladies Night w/ DJ Ty Street 9:30p\nFroggie's Cantina By The BayÂ
  - Shore Drive - BJ Griffin Trio 8p\nIce House - live music 8:30p\nJer
 ry's Restaurant & Lounge - Chesapeake - River Boyz Trio 9:30pÂ \nKeaga
 n's Irish Pub -Town Center- Steve Forss 10p\nLongshots Billiards & Dar
 ts- Chesapeake- Beer Pong & Corn Hole* - Hottest Night of the Week\nPo
 ppa's Pub - Open Mic w/ Laced Up 7p\nRY Lounge - Oceanfront - Social T
 hursday, Ladies Night w/ DJ Punisha\nSalty C'sÂ - Shore Drive - Open M
 ic\nTapped Gastropub- Hilltop - CJ LeBeauÂ 9p\nTempt Restaurant and Lo
 unge- 1/2 price wine all night\nWing King - Kempsville -Â Texas Hold '
 Em TournamentÂ 7p Karaoke 8p\nWoody McGees - Holland RoadÂ - Mike Gomb
 as & C. Kendrick 9p\n\nFor more information visit https://vbnightlife.
 com/events/click-here-for-thursday-2-18-16-events-and-entertainment-li
 sting
DTSTART:20160218T050000Z
DTEND:20160219T045900Z
CATEGORIES:"virginia beach", "virginia beach nightlife", "events in vi
 rginia beach", "virginia beach bands", "virginia beach entertainment"
LOCATION:Virginia Beach, VA
WEBSITE:
URL:
CONTACT:
ORGANIZER:VBnightlife.com / vbdaylife
ATTACH;FMTTYPE="image/jpeg":http://storage.ning.com/topology/rest/1.0/
 file/get/1664301834?profile=original
ATTENDEE;ROLE=REQ-PARTICIPANT;PARTSTAT=ACCEPTED;RSVP=TRUE;CN="VBnightl
 ife.com":https://vbnightlife.com/profile/admin
END:VEVENT
END:VCALENDAR
