BEGIN:VCALENDAR
PRODID:NingEventWidget-v1
VERSION:2.0
METHOD:PUBLISH
BEGIN:VEVENT
UID:2508951:Event:188012
DTSTAMP:20260422T162801Z
SUMMARY:Click here for THURSDAY 2/16/12 VIRIGNIA BEACH ENTERTAINMENT
DESCRIPTION:ENTERTAINMENT\nBoneshakers - THE STRIKER BAND 8:30 to 11 
 + Prime Rib night every Thursday $1.50 oz cut to order -Happy Hour 3 t
 o 7\nCinema Cafe (Pembroke)- Comedy Night, 9-11PM\nCutty Shark- Grant 
 Austin Taylor\nDiesel- Diesel Mug Night w/ Snackbar Jones\nDoc Taylors
 - The Real Nasty, 8:30PM\nFlashbacks- Billy Joe Trio (Every Thursday)\
 nFresh Tapas & Tonics- Brent Shepard\nGuadalajara - (Town Center) Thro
 wback Thursday with DJ Bee 10PM  (every thursday)\nHavana Nights- Jus
 tin Kauflin Trio, 8-11PM\nH20- Kaycee McGehee, 6-9PM, Jesse Chong, 10P
 M\nIcehouse - Brent Shepard, 9PM (Every Thursday this Month), 9PM\nIL 
 Giardino- Live Entertainment in the lounge w/ Mr. Billy Batte- 7PM\nKe
 agans- Live Music, 10PM\nLa Casa Rana- River Boys & Ever After\nO'Lear
 ys- (Lynnhaven Dr) Service Industry Night, 10PM\nSalty C's- (Shore Dr)
  Open Mic\n\n \nTHEATRE/FUNDRAISERS/CONCERTS/SPORTS:\nScope- Admirals
  Hockey, 7:30PM\nChrysler Hall- Mr. Marmalade, 8PM\nFunny Bone Comedy 
 Club - Tracy Morgan, Clash of the Comics- Mar. 13th\n\nDJ’S/KARAOKE/
 DANCES:\nRetro Cafe- Karaoke\nChicho’s 29th - *KARAOKE\nGreen Parrot
 - Open Mic w/ Dahna Rowe\nPoppa’s Pub - *KARAOKE* 9:30PM\nJewish Mot
 her- MOMS KARAOKE 8pm\nSammys- Karaoke & Live DJ\nWannaB's- KARAOKE 7 
 PM - 2 AM  Monday - Saturday (21 and Older)\n\nCLICK HERE FOR HAPPY H
 OUR DEALS\nCLICK HERE REACH OUR VENUE'S PAGE\nCLICK HERE FOR OUR BAND/
 DJ PAGE\n\nFor more information visit https://vbnightlife.com/events/c
 lick-here-for-thursday-2-16-12-virignia-beach-entertainment
DTSTART:20120216T050000Z
DTEND:20120217T045900Z
CATEGORIES:"virgina beach entertainment", "virginia beach nightlife", 
 "virginia beach bands"
LOCATION:Virginia Beach
WEBSITE:
URL:
CONTACT:
ORGANIZER;CN="VBnightlife.com":https://vbnightlife.com/profile/admin
ATTACH;FMTTYPE="image/jpeg":http://storage.ning.com/topology/rest/1.0/
 file/get/1664159929?profile=original
ATTENDEE;ROLE=REQ-PARTICIPANT;PARTSTAT=ACCEPTED;RSVP=TRUE;CN="VBnightl
 ife.com":https://vbnightlife.com/profile/admin
END:VEVENT
END:VCALENDAR
