BEGIN:VCALENDAR
PRODID:NingEventWidget-v1
VERSION:2.0
METHOD:PUBLISH
BEGIN:VEVENT
UID:2508951:Event:210944
DTSTAMP:20260419T190406Z
SUMMARY:Click here for THURSDAY 2/14/13 VIRGINIA BEACH ENTERTAINMENT L
 ISTINGS
DESCRIPTION:\nLIVE ENTERTAINMENT/ DJ’S/ KARAOKE:\n7 Martini & Tapas-
  DJ\nAbbey Rd- Mike Proffitt\nAberdeen Barn- Bryan Dunn\nBayside Inn- 
 Musicians Collaboration with Barry Hicks\nCalypso-Valentines Day Bash 
 ft. Slumber Parties by Samantha K\nDoc Taylors- Jeff Sipe Trio\nGreen 
 Parrot- Open Mic w/ Dahna Rowe\nGrumpys- Hotcakes\nHunt Room at the Ca
 valier- Kayce McGehee\nIl Giardino's –Billy Batte\nKeagans- Steve Fo
 rss & Robert Coates\nPeabodys- Shred Your Ex party + Little Red Dress 
 contest\nSalty C’s- Open Mic\nShakas- UFO Abduction\nSouth Beach Gri
 ll-T Marony Country Valentine\nWoody McGees Barstro –  Tim Branson\
 n \nSPECIAL EVENTS/CONCERTS/ FESTIVALS:\nHoodoo Love- Generic Theatre
 \nYo Gabba Gabba- Chrysler Hall\nMitch Fatel- - Virginia Beach Funny B
 one\nComedy At The Café- Pembroke Meadows Cinema Café\nOpen Your Hea
 rts to the Arts Benefit- Richert Stravitz Sculpture & Fine Art Galleri
 es\n \nCLICK HERE FOR HAPPY HOUR DEALS FEATURING SEVERAL LOCAL RESTAU
 RANTS DAILY SPECIALS\n \nCLICK HERE REACH OUR VENUE'S PAGE TO FIND A
 DDRESSES AND PHONE NUMBERS OF PLACES LISTED\n \nCLICK HERE FOR OUR BA
 ND/DJ PAGE TO FIND DESCRIPTION OF THE BANDS AND LINKS TO THEIR WEB PA
 GES\n\nFor more information visit https://vbnightlife.com/events/click
 -here-for-thursday-2-14-13-virginia-beach-entertainment-list
DTSTART:20130214T050000Z
DTEND:20130215T045900Z
CATEGORIES:"virginia beach", "virginia beach nightlife", "virginia bea
 ch bands"
LOCATION:Virginia Beach, VA
WEBSITE:
URL:
CONTACT:
ORGANIZER;CN="VBnightlife.com":https://vbnightlife.com/profile/admin
ATTACH;FMTTYPE="image/jpeg":http://storage.ning.com/topology/rest/1.0/
 file/get/1664184859?profile=original
ATTENDEE;ROLE=REQ-PARTICIPANT;PARTSTAT=ACCEPTED;RSVP=TRUE;CN="VBnightl
 ife.com":https://vbnightlife.com/profile/admin
END:VEVENT
END:VCALENDAR
