BEGIN:VCALENDAR
PRODID:NingEventWidget-v1
VERSION:2.0
METHOD:PUBLISH
BEGIN:VEVENT
UID:2508951:Event:208590
DTSTAMP:20260423T224034Z
SUMMARY:Click here for THURSDAY 12/6/12 VIRGINIA BEACH ENTERTAINMENT L
 ISTINGS
DESCRIPTION:LIVE ENTERTAINMENT/ DJ’S/ KARAOKE:\nAbbey Rd.- Mike Prof
 fitt\nBayside Inn- Music Collaboration with Barry Hicks\nBoneshakers- 
 Barefoot & Crazy\nCalypso- Rock-e-oke\nThe Cave- DJ\nFrog Sports Bar &
  Grill- Open Mic Night\nHavana Nights  -Jae Sinnett Trio\nGreen Parro
 tt- Open Mic w/ Dahna Rowe\nGrumpys- Power Play\nH20-Jesse Chong\nIceh
 ouse- Live Music\nIl Giardino's – Billy Batte\nKeagans- Steve Forss 
 & Robert Coates\nLunaSea- Brent Shepard\nMurphys- The Havers\nPoppas P
 ub- Open Mic with Common Ground\nSalty C's- Open Mic\nWannaB’s- Kara
 oke\nWoody McGees Barstro  - Luke Taylor\n \nSPECIAL EVENTS/CONCERTS
 / FESTIVALS:\nMcDonalds Holiday Lights at the Beach\nDan Cummins- Virg
 inia Beach Funny Bone\nComedy at the Café- Pembroke Cinema Cafe\n \n
 CLICK HERE FOR HAPPY HOUR DEALS FEATURING SEVERAL LOCAL RESTAURANTS DA
 ILY SPECIALS\n \nCLICK HERE REACH OUR VENUE'S PAGE TO FIND ADDRESSES
  AND PHONE NUMBERS OF PLACES LISTED\n \nCLICK HERE FOR OUR BAND/DJ PA
 GE TO FIND DESCRIPTION OF THE BANDS AND LINKS TO THEIR WEB PAGES\n\nF
 or more information visit https://vbnightlife.com/events/click-here-fo
 r-thursday-12-6-12-virginia-beach-entertainment-list
DTSTART:20121206T050000Z
DTEND:20121207T045900Z
CATEGORIES:"virginia beach", "virginia beach nightlife", "virginia bea
 ch bands"
LOCATION:Virginia Beach
WEBSITE:
URL:
CONTACT:
ORGANIZER;CN="VBnightlife.com":https://vbnightlife.com/profile/admin
ATTACH;FMTTYPE="image/jpeg":http://storage.ning.com/topology/rest/1.0/
 file/get/1664182287?profile=original
ATTENDEE;ROLE=REQ-PARTICIPANT;PARTSTAT=ACCEPTED;RSVP=TRUE;CN="VBnightl
 ife.com":https://vbnightlife.com/profile/admin
END:VEVENT
END:VCALENDAR
