BEGIN:VCALENDAR
PRODID:NingEventWidget-v1
VERSION:2.0
METHOD:PUBLISH
BEGIN:VEVENT
UID:2508951:Event:319812
DTSTAMP:20260423T124331Z
SUMMARY:Click here for NEW YEAR'S EVE 12/31/15 Events and Entertainmen
 t Listing
DESCRIPTION:\nSPECIAL EVENTS\nNYE at 501 City Grill w/ Vinyl Headlight
 s http://vbnightlife.com/events/new-year-s-eve-at-501-city-grill\nNYE
  at Wing King - Featuring Nature's Child http://vbnightlife.com/event
 s/new-years-eve-at-wing-king-rosemont-kempsville\nJunkanoo NYE Bash at
  Bahama Breeze http://vbnightlife.com/events/bahama-breeze-s-island-j
 unkanoo-new-year-s-bash\nTinto Wine & Cheese - Hilltop - \"Cheese Ple
 ase\" Sample cheese and wine from around the world 5 to 8p\nNew Year's
  Eve at Dave & Busters: http://vbnightlife.com/events/nye-at-dave-bus
 ters\nNYE at Town Center: http://vbnightlife.com/events/new-year-s-ev
 e-at-town-center-1\n\nLive Music\n501 City Grill - Birdneck Road - Vin
 yl Headlights 9p\nAbbey Road Pub - NYE Who's In The Corner?\nBella Mon
 te Restaurant & Enoteca - 1201 Laskin Rd - Charlie Wiseman on 9-fo
 ot concert grand piano 6:30 to 9:30p\nBoneshakers - Greg Gutty & The 
 Port of Reign 9p\nCalypso Bar & Grill - NYE Bash w/ 3 Stroke $20 cover
  6p DJ Nature & DJ Litt\nCocomo Joe's - Woodwork NYE Party 9:30p\nDoc 
 Taylor's Seaside Market Lounge - NYE Bash w/ Seth Stainback & Roosterf
 oot 8p *Ticketed event first 150 people\nEagles Nest - Hilltop - NYE B
 ash w/ Casey Jamerson & DJ Ty Street\nFresh Eats n Drinks - J & The Ba
 nd 9p\nFroggies Cantina - NYE Party w/ Almost Famous Band 10p No Cover
  \nHot Tuna - NYE Party w/ Spin City 9:30p\nIce House - Jack Becker 8
 :30p\nJerry's Restaurant & Lounge -Chesapeake- MACK'S DADDY 9PM\nKeaga
 n's Irish Pub -Town Center- NYE w/ Billy Joe Trio\nLongshots Billiards
  & Darts- Chesapeake- Beer Pong & Corn Hole* - Hottest Night of the We
 ek\nMurphy's Irish Pub - NYE w/ Jesse Chong Band 10p $10 Cover\nSouth 
 Beach Grill - River Boyz\nTapped Gastropub- Hilltop - Kaboombox Duo 10
 p\nTempt Restaurant and Lounge-  NYE PARTY\nWaterman's - Levi's New Y
 ear's Eve Party private ticketed event 9:30p\nWing King - Rosemont - N
 ew Year's Eve with Nature's Child 9:30p\nWing King - Kempsville - DJ 
  \nWoody McGees - Holland Road - NYE Party with Baker Street No Cove
 r Charge 9p\n\nFor more information visit https://vbnightlife.com/even
 ts/click-here-for-thursday-12-31-15-events-and-entertainment-listing
DTSTART:20151231T050000Z
DTEND:20160101T045900Z
CATEGORIES:"virginia beach", "virginia beach nightlife", "events in vi
 rginia beach", "virginia beach bands", "virginia beach entertainment"
LOCATION:Virginia Beach, VA
WEBSITE:
URL:
CONTACT:
ORGANIZER:VBnightlife.com / vbdaylife
ATTACH;FMTTYPE="image/jpeg":http://storage.ning.com/topology/rest/1.0/
 file/get/1664297603?profile=original
ATTENDEE;ROLE=REQ-PARTICIPANT;PARTSTAT=ACCEPTED;RSVP=TRUE;CN="VBnightl
 ife.com":https://vbnightlife.com/profile/admin
END:VEVENT
END:VCALENDAR
