BEGIN:VCALENDAR
PRODID:NingEventWidget-v1
VERSION:2.0
METHOD:PUBLISH
BEGIN:VEVENT
UID:2508951:Event:320148
DTSTAMP:20260422T141135Z
SUMMARY:Click here for THURSDAY 12/17/15 Events and Entertainment List
 ing
DESCRIPTION:\nSPECIAL EVENTS\nTinto Wine & Cheese - Hilltop - \"Chees
 e Please\" Sample cheese and wine from around the world 5 to 8p\nMuseu
 m of Contemporary Art (MOCA) Now on Exhibit\n\n\nLive Music\nAbbey Ro
 ad Pub - Happy Hour prices on all 24 drafts & crafts on tap til 9p\nBe
 lla Monte Restaurant & Enoteca - 1201 Laskin Rd - **CLOSED FOR A PR
 IVATE PARTY**\nBoneshakers - Live music  7 - 11p on the patio\nCocomo
  Joe's - Open Mic Night with Bebop & Rock Steady 9p\nDoc Taylor's Se
 aside Market Lounge - Bernie & The Jets 8p\nEagles Nest - Hilltop - Th
 ursday Night Football & DJs: DJ Ty Street v DJ 401K\nIce House - Live
  Music 9p\nJerry's Restaurant & Lounge - Chesapeake - Michael Monahan 
 & Robbie House\nKeagan's Irish Pub -Town Center- Steve Forss 10p*\nLo
 ngshots Billiards & Darts- Chesapeake- Beer Pong & Corn Hole* - Hottes
 t Night of the Week\nMurphy's Irish Pub - Football 8pm\nRY Lounge - Oc
 eanfront - Social Thursday, Ladies Night w/ DJ Punisha\nSalty C's - S
 hore Drive - Open Mic\nSouth Beach Grill - Yogi & Friends \nTapped Ga
 stropub- Hilltop - RnR Band 9p\nTempt Restaurant and Lounge- 1/2 price
  wine all night\nWing King - Rosemont - Thursday Night Football & Bre
 nt Shepard 9p \nWing King - Kempsville - Texas Hold 'Em Tournament 
 7p  \nWoody McGees - Holland Road - Terry Kemp 9p\n\nFor more infor
 mation visit https://vbnightlife.com/events/click-here-for-thursday-12
 -17-15-events-and-entertainment-listing
DTSTART:20151217T050000Z
DTEND:20151218T045900Z
CATEGORIES:"virginia beach", "virginia beach nightlife", "events in vi
 rginia beach", "virginia beach bands", "virginia beach entertainment"
LOCATION:Virginia Beach, VA
WEBSITE:
URL:
CONTACT:
ORGANIZER:VBnightlife.com / vbdaylife
ATTACH;FMTTYPE="image/jpeg":http://storage.ning.com/topology/rest/1.0/
 file/get/1664297498?profile=original
ATTENDEE;ROLE=REQ-PARTICIPANT;PARTSTAT=ACCEPTED;RSVP=TRUE;CN="VBnightl
 ife.com":https://vbnightlife.com/profile/admin
ATTENDEE;ROLE=REQ-PARTICIPANT;PARTSTAT=ACCEPTED;RSVP=TRUE;CN="Rolan St
 ears":https://vbnightlife.com/profile/RolanStears
END:VEVENT
END:VCALENDAR
