BEGIN:VCALENDAR
PRODID:NingEventWidget-v1
VERSION:2.0
METHOD:PUBLISH
BEGIN:VEVENT
UID:2508951:Event:299465
DTSTAMP:20260422T061303Z
SUMMARY:Click here for THURSDAY 11/6/14 VIRGINIA BEACH ENTERTAINMENT a
 nd EVENTS LISTINGS
DESCRIPTION:\nDownload the new FREE mobile app for Virginia Beach.  U
 se this link: http://onelink.to/yae3t5 or Search VBnightlife in the i
 Tunes or Google Play stores today and get a complete list of events, r
 estaurant recommendations, coupons and more!\n Bahama Breeze - Justin
  Furlow 8pm\nBoneshakers - Riverboyz 7pm\nCobalt Grill -  Live Music 
 7:30pm\nDoc Taylor's Seaside Market Lounge -  Homemade Bread  8:30pm
  \nEagle's Nest (Hilltop) - Ladies Night - Dualing DJs\nFroggies Can
 tina by the Bay - Mike Proffitt and Dana Silvercloud 7pm\nGreen Parrot
  - OPEN MIC /w \"DAHNA ROWE*\nIce House -   9pm\nJake's Smokehouse & 
 BBQ - General Booth - Lunch & Early Bird Specials 11am to 5pm\nJagers
   - Click here for your FREE coupon for a FREE appetizer at JageR's\
 nJerry's Restaurant & Lounge - Chesapeake -   - Get your 1/2 price vo
 ucher for food & drink here:  www.vbhotdeals.com\nKeagans - Town Cent
 er - STEVE FORSS\" 10pm*\nPoppa's Pub - Open Mic with Laced Up 9pm*\nS
 alty C's - Shore Drive - Open Mic\nShakas - Oceanfront - The Reverend
  Horton Heat, w/ Thomas McDonald & The Record Collection, & The Wetboy
 s, 8 pm\nStan's American Bistro -  Live Music Open Mic  - 8:30pm a
 nd Happy Hour 4 to 7pm with $6 martinis and more. See all Happy Hour l
 isted on our VBnightlife Mobile App!\nTempt - Open Mic w/ Liana Dagmar
  8pm \nWing King - Rosemont - Joanna Lynn and Luke Taylor 9pm\nWing K
 ing - Kempsville - Thursday Night Football\nWoody McGees - Dennis \"Ea
 sy D\" Spence  9pm\n\nSpecial Events:   \n\nFor more information v
 isit https://vbnightlife.com/events/click-here-for-thursday-11-6-14-vi
 rginia-beach-entertainment-and-
DTSTART:20141106T050000Z
DTEND:20141107T045900Z
CATEGORIES:"virginia beach", "virginia beach nightlife", "virginia bea
 ch bands", "virginia beach entertainment"
LOCATION:Virginia Beach, VA
WEBSITE:
URL:
CONTACT:
ORGANIZER;CN="VBnightlife.com":https://vbnightlife.com/profile/admin
ATTACH;FMTTYPE="image/jpeg":http://storage.ning.com/topology/rest/1.0/
 file/get/1664254798?profile=original
ATTENDEE;ROLE=REQ-PARTICIPANT;PARTSTAT=ACCEPTED;RSVP=TRUE;CN="VBnightl
 ife.com":https://vbnightlife.com/profile/admin
END:VEVENT
END:VCALENDAR
