BEGIN:VCALENDAR
PRODID:NingEventWidget-v1
VERSION:2.0
METHOD:PUBLISH
BEGIN:VEVENT
UID:2508951:Event:317106
DTSTAMP:20260424T104743Z
SUMMARY:Click here for THURSDAY 11/5/15 Events and Entertainment Listi
 ng
DESCRIPTION:\nSPECIAL EVENTS\nTinto Wine & CheeseÂ - Hilltop - \"Chees
 e Please\" Sample cheese and wine from around the world 5 to 8p\nMuseu
 m of Contemporary Art (MOCA)Â Now on Exhibit\nThe Pearl ClubÂ -Â Give 
 Back ThursdaysÂ After Work Social w/ Brandon Peter & Fundraiser for Do
 gs on DeploymentÂ 5:30 to 8:30p\n\nLive Music\nAbbey Road Pub -Â Â 7:3
 0p\nBoneshakers - Live music Â 7 - 11p on the patio\nCocomo Joe's -Â O
 pen Mic Night with Bebop & Rock SteadyÂ 9p\nDoc Taylor's Seaside Marke
 t Lounge -Â The Southern Belles 8p\nEagles Nest -Hilltop-Â Cassadee Po
 pe 7:30 thenÂ Dueling DJs: DJ Ty Street v DJ 401K after the show\nIce 
 HouseÂ - Live Music 9p\nJerry's Restaurant & Lounge -Chesapeake-Â TNT 
 Karaoke\nKeagan's Irish Pub -Town Center-Â Steve Forss 10p*\nLongshots
  Billiards & Darts- Chesapeake- Beer Pong & Corn Hole* - Hottest Night
  of the Week\nMurphy's Irish Pub - NFL Browns vs Bengals 8pm\nRY Loung
 e - Oceanfront - Social Thursday, Ladies Night w/ DJ Punisha\nSalty C'
 sÂ - Shore Drive - Open Mic\nTapped Gastropub- Hilltop -Â Damn JankesÂ
  9p\nTempt Restaurant and Lounge- 1/2 price wine all night\nThe Pearl 
 Club - Give Back ThursdaysÂ After Work Social w/ Brandon Peter & Fundr
 aiser for Dogs on Deployment 5:30 to 8:30p\nWing King - Rosemont -Â Th
 ursday Night FootballÂ Brandon Bower 9pÂ \nWing King - Kempsville -Â T
 exas Hold 'Em TournamentÂ 7pÂ Â \nWoody McGees - Holland RoadÂ -Â Dave
  JohnsonÂ 9p\n\nFor more information visit https://vbnightlife.com/eve
 nts/click-here-for-thursday-11-5-15-events-and-entertainment-listing
DTSTART:20151105T050000Z
DTEND:20151106T045900Z
CATEGORIES:"virginia beach", "virginia beach nightlife", "events in vi
 rginia beach", "virginia beach bands", "virginia beach entertainment"
LOCATION:Virginia Beach, VA
WEBSITE:
URL:
CONTACT:
ORGANIZER:VBnightlife.com / vbdaylife
ATTACH;FMTTYPE="image/jpeg":http://storage.ning.com/topology/rest/1.0/
 file/get/1664294151?profile=original
ATTENDEE;ROLE=REQ-PARTICIPANT;PARTSTAT=ACCEPTED;RSVP=TRUE;CN="VBnightl
 ife.com":https://vbnightlife.com/profile/admin
END:VEVENT
END:VCALENDAR
