BEGIN:VCALENDAR
PRODID:NingEventWidget-v1
VERSION:2.0
METHOD:PUBLISH
BEGIN:VEVENT
UID:2508951:Event:299468
DTSTAMP:20260423T133612Z
SUMMARY:Happy Thanksgiving! Click here for THURSDAY 11/27/14 RESTAURAN
 T GUIDE
DESCRIPTION:\nDownload the new FREE mobile app for Virginia Beach.  U
 se this link: http://onelink.to/yae3t5 or Search VBnightlife in the i
 Tunes or Google Play stores today and get a complete list of events, r
 estaurant recommendations, coupons and more!\n11th Street Taphouse - C
 losed\n501 - Closed\nBoneshakers - 11am to 3pm Open Traditional Thank
 sgiving Dinner served! 30% off for Military\nBrass Bell - Open \nBurt
 on's - Closed\nCobalt Grill -   Thanksgiving Dinner Sold out\nCrazy 
 Good Donuts - Open 6am to 1pm\nDoc Taylor's Seaside Market Lounge -  
 Closed   \nFounder's Inn Swan Terrace - Thanksgiving Brunch $95\nFro
 ggies Cantina by the Bay - AYCE Thanksgiving Feast 4pm to 8pm $15\nFus
 ion (Sheraton Oceanfront) - Thanksgiving Dinner Served\nHarpoon Larry'
 s - Open\nIce House -  Closed\nJake's Smokehouse & BBQ - General Boot
 h -  Pre-order your Thanksgiving Turkey \nJamestown Settlement Cafe 
 - Traditional Thanksgiving Dinner 11am to 4pm http://www.historyisfun
 .org/jamestown-settlement/foods-and-feasts/thanksgiving-dinner-menu/\n
 Jagers  -  Closed\nKeagans - Town Center -  Annual Thanksgiving Buf
 fet 11am to 6pm - Steve Forss 10pm\nLager Heads - Open for Breakfast O
 nly\nMahi Mahs - Open - 3 Seatings\nMcCormick and Schmick's - Open - T
 hanksgiving Dinner Served $24.99\nMom's Kitchen - Traditional Thanksg
 iving Buffet 12 to 6pm $10.99;10 and under $6.99; Under 4 free \nMur
 phy's Irish Pub -  Thanksgiving Dinner and regular menu; adults - $1
 4; BOGO Military\nRuth's Chris (Town Center) - 3 Course Turkey Dinner 
 $38\nScotty Quixx - Closed - Both Locations\nSoya - Closed\nStan's Ame
 rican Bistro -   Closed\nTempt - Closed\nTubby's Tavern - Great Neck
  Rd - Open at 4; live music w/ Matt Holloman 8 to 11pm\nWing King - Ro
 semont -  Closed\nWing King - Kempsville -  Closed\nWoody McGees - T
 raditional Thanksgiving Dinner 11am to 6pm $15.99  \n\n\n\nFor more i
 nformation visit https://vbnightlife.com/events/click-here-for-thursda
 y-11-27-14-virginia-beach-entertainment-and
DTSTART:20141127T050000Z
DTEND:20141128T045900Z
CATEGORIES:"virginia beach", "virginia beach nightlife", "virginia bea
 ch bands", "virginia beach entertainment"
LOCATION:Virginia Beach, VA
WEBSITE:
URL:
CONTACT:
ORGANIZER;CN="VBnightlife.com":https://vbnightlife.com/profile/admin
ATTACH;FMTTYPE="image/jpeg":http://storage.ning.com/topology/rest/1.0/
 file/get/1664250062?profile=original
ATTENDEE;ROLE=REQ-PARTICIPANT;PARTSTAT=ACCEPTED;RSVP=TRUE;CN="VBnightl
 ife.com":https://vbnightlife.com/profile/admin
END:VEVENT
END:VCALENDAR
