BEGIN:VCALENDAR
PRODID:NingEventWidget-v1
VERSION:2.0
METHOD:PUBLISH
BEGIN:VEVENT
UID:2508951:Event:318452
DTSTAMP:20260424T033207Z
SUMMARY:THANKSGIVING EVENTS - LIVE MUSIC AT KEAGANS AND MURPHYS TONIGH
 T
DESCRIPTION:\nSPECIAL EVENTS\nBig list of Thanksgiving buffets: http:
 //vbnightlife.com/events/big-list-of-thanksgiving-buffets-courtesy-of-
 the-vbra-and-the-vbh \nThanksgiving Feast at Froggies http://vbnight
 life.com/events/thanksgiving-feast-at-froggies\nVirginia Moca - Closed
 \nAdventure Park - Closed\n\nLive Music\nAbbey Road Pub - open at 4pm;
   \nBahama Breeze - Closed for Thanksgiving\nBoneshakers - Open at no
 on w/ traditional Thanksgiving dinner\nDoc Taylor's Seaside Market Lou
 nge - Closed for Thanksgiving\nEagles Nest -Hilltop- closed (chesapea
 ke location open)\nIce House - CLOSED for Thanksgiving\nJerry's Rest
 aurant & Lounge -Chesapeake- Thanksgiving Open at 4p\nKeagan's Irish P
 ub -Town Center- OPN 6PM Steve Forss 10p*\nLongshots Billiards & Darts
 - Chesapeake- OPEN 4PM. Turkey dinner served\nMurphy's Irish Pub - Tra
 ditional Thanksgiving Dinner / NFL Games All Day Open 11a to 2a - Big 
 Forest Fire 8pm\nTapped Gastropub- Hilltop - Closed for Thanksgiving\n
 Tempt Restaurant and Lounge- closed for Thanksgiving\nWaterman's - Clo
 sed for Thanksgiving\nWing King - Rosemont - Closed for Thanksgiving\
 nWing King - Kempsville - Closed for Thanksgiving\nWoody McGees -  T
 hanksgiving Dinner $15.99\n\nFor more information visit https://vbnigh
 tlife.com/events/click-here-for-thursday-11-26-15-events-and-entertain
 ment-listing
DTSTART:20151126T050000Z
DTEND:20151127T045900Z
CATEGORIES:"virginia beach", "virginia beach nightlife", "events in vi
 rginia beach", "virginia beach bands", "virginia beach entertainment"
LOCATION:Virginia Beach, VA
WEBSITE:
URL:
CONTACT:
ORGANIZER:VBnightlife.com / vbdaylife
ATTACH;FMTTYPE="image/jpeg":http://storage.ning.com/topology/rest/1.0/
 file/get/1664290772?profile=original
ATTENDEE;ROLE=REQ-PARTICIPANT;PARTSTAT=ACCEPTED;RSVP=TRUE;CN="VBnightl
 ife.com":https://vbnightlife.com/profile/admin
END:VEVENT
END:VCALENDAR
