BEGIN:VCALENDAR
PRODID:NingEventWidget-v1
VERSION:2.0
METHOD:PUBLISH
BEGIN:VEVENT
UID:2508951:Event:299116
DTSTAMP:20260423T091021Z
SUMMARY:Click here for THURSDAY 11/20/14 VIRGINIA BEACH ENTERTAINMENT 
 and EVENTS LISTINGS
DESCRIPTION:\nDownload the new FREE mobile app for Virginia Beach.  U
 se this link: http://onelink.to/yae3t5 or Search VBnightlife in the i
 Tunes or Google Play stores today and get a complete list of events, r
 estaurant recommendations, coupons and more!\n\nSPECIAL EVENT: Benefit
  at Princess Anne Country Club - 11am to 2pm Through the Looking Glas
 s: Southern Classics Platinum 20th Anniversary Annual Fashion Show & L
 uncheon \n\nLive Music: \nBahama Breeze - Justin Furlow 8pm\nCobalt 
 Grill -  Cobalt Blue Band with Tony Hardt and special guest Bruce Gra
 y Performing 8pm to 11pm\nDoc Taylor's Seaside Market Lounge -  Yojim
 bo  8:30 pm\nEagle's Nest (Hilltop) - Ladies Night - Dualing DJs\nF
 roggies Cantina by the Bay - Jesse Chong 7pm\nGreen Parrot - OPEN MIC 
 /w \"DAHNA ROWE*\nIce House -  Jack Becker  9pm\nJake's Smokehouse &
  BBQ - General Booth - Lunch & Early Bird Specials 11am to 5pm\nJager
 s  - Click here for your FREE coupon for a FREE appetizer at JageR's
  - Karaoke \nJerry's Restaurant & Lounge - Chesapeake - BIG VIRGINIA
  SKY 7:30  - Get your 1/2 price voucher for food & drink here:  www.
 vbhotdeals.com\nKeagans - Town Center - STEVE FORSS\" 10pm*\nPoppa's P
 ub - Open Mic with Laced Up 9pm*\nSalty C's - Shore Drive - Open Mic\n
 Stan's American Bistro -  Open Mic  - 8pm and Happy Hour 4 to 7pm w
 ith $6 martinis and more. See all Happy Hour listed on our VBnightlife
  Mobile App!\nTempt - Open Mic w/ Liana Dagmar 8pm* \nWing King - Ros
 emont - Anthony Rosano and the Conqueroos 9pm\nWing King - Kempsville 
 - Thursday Night Football*\nWoody McGees - Skip Friel  9pm\n\n \n\n
 For more information visit https://vbnightlife.com/events/click-here-f
 or-thursday-11-20-14-virginia-beach-entertainment-and
DTSTART:20141120T050000Z
DTEND:20141121T045900Z
CATEGORIES:"virginia beach", "virginia beach nightlife", "virginia bea
 ch bands", "virginia beach entertainment"
LOCATION:Virginia Beach, VA
WEBSITE:
URL:
CONTACT:
ORGANIZER;CN="VBnightlife.com":https://vbnightlife.com/profile/admin
ATTACH;FMTTYPE="image/jpeg":http://storage.ning.com/topology/rest/1.0/
 file/get/1664249846?profile=original
ATTENDEE;ROLE=REQ-PARTICIPANT;PARTSTAT=ACCEPTED;RSVP=TRUE;CN="VBnightl
 ife.com":https://vbnightlife.com/profile/admin
END:VEVENT
END:VCALENDAR
