BEGIN:VCALENDAR
PRODID:NingEventWidget-v1
VERSION:2.0
METHOD:PUBLISH
BEGIN:VEVENT
UID:2508951:Event:176085
DTSTAMP:20260420T122814Z
SUMMARY:Click here for THURSDAY VB ENTERTAINMENT LISTINGS
DESCRIPTION:ENTERTAINMENT\n11TH St. Taphouse - Josh Jordan & Buger & P
 int Night! 6 - 10\nAbbey Road- Mike Proffitt\nBone Shakers - Spider Lo
 ve 8 - 11\nDogwood - Tailgate Down 9pm\nGreen Onion- JoAnne Lynne Band
  and $5 Martinis!\nIL Giardino- Live entertainment in the lounge w/ Mr
 . Billy Batte- 7 to 11\nIce House- Jack Becker- 9PM\nJewish Mother- Th
 e Slackers- 9PM\nKegans- Steve Forss- 10PM\nVanity- Borderline Crazy\n
 \nDJ’S/KARAOKE/DANCES:\nPoppas Pub- KARAOKE 9:30pm\nCentral 111 – 
 TWIST THURSDAYS  9PM\nChicho’s  29th - *KARAOKE*\nGreen Parrot- Op
 en Mic w/ Dahna Rowe\nLendy's- Karaoke for Kids- 6PM\nSouth Beach Gril
 l- Football/Open Mic Night\nRetro Cafe - *LOCALS VIP NIGHT* 10PM\n \n
 HAPPY HOUR:\n11th Street Taphouse – bogo half-a-tizers 4-9pm\n15th S
 treet Raw Bar – clams .50 oysters .75 3-7pm, ny strip + 2 sides = $1
 3.99\n21st Street Tiki Bar - $2 domestics, $2.50 imports & well drinks
 , large pizza + pitcher beer = $13.99 4-9pm || $1 jello shots, $1.50 m
 ickeys/pbr/natty, $4 jager/fireball/flavored vodka monster bombs\n \n
 CLICK HERE FOR HAPPY HOUR DEALS\nCLICK HERE REACH OUR VENUE'S PAGE TO 
 FIND ADDRESSES AND PHONE NUMBERS OF PLACES LISTED CLICK HERE FOR OUR B
 AND/DJ PAGE TO FIND DESCRIPTION OF THE BANDS AND LINKS TO THEIR WEB PA
 GES\nBookings can change at the last minute, so we recommend checking 
 with the venue before heading out!\n\nFor more information visit https
 ://vbnightlife.com/events/click-here-for-thursday-11-17-11-virginia-be
 ach-entertainment-lis
DTSTART:20111117T050000Z
DTEND:20111118T045900Z
CATEGORIES:"virginia beach entertainment", "virginia beach nightlife",
  "virginia beach bands"
LOCATION:\"Virginia Beach\"
WEBSITE:
URL:
CONTACT:
ORGANIZER;CN="VBnightlife.com":https://vbnightlife.com/profile/admin
ATTACH;FMTTYPE="image/jpeg":http://storage.ning.com/topology/rest/1.0/
 file/get/1664153775?profile=original
ATTENDEE;ROLE=REQ-PARTICIPANT;PARTSTAT=ACCEPTED;RSVP=TRUE;CN="VBnightl
 ife.com":https://vbnightlife.com/profile/admin
END:VEVENT
END:VCALENDAR
