BEGIN:VCALENDAR
PRODID:NingEventWidget-v1
VERSION:2.0
METHOD:PUBLISH
BEGIN:VEVENT
UID:2508951:Event:299215
DTSTAMP:20260422T180532Z
SUMMARY:Click here for THURSDAY 11/13/14 VIRGINIA BEACH ENTERTAINMENT 
 and EVENTS LISTINGS
DESCRIPTION:\nDownload the new FREE mobile app for Virginia Beach. Â U
 se this link: http://onelink.to/yae3t5Â or Search VBnightlife in the i
 Tunes or Google Play stores today and get a complete list of events, r
 estaurant recommendations, coupons and more!\nÂ \nSPECIAL EVENT:\nTRIV
 IA NIGHT AT MOCAÂ http://vbnightlife.com/events/trivia-night-at-moca\n
 BAhama Breeze - Justin Furlow 8pm\nCobalt Grill - Â Live Music 7:30pm\
 nDoc Taylor's Seaside Market Lounge - Â Megan Jean & the KFB, 8:30Â pm
 \nEagle's Nest (Hilltop) -Â Ladies Night - Dualing DJs\nFroggies Canti
 na by the Bay - Bryan Dunn 7pm\nGreen Parrot - OPEN MIC /w \"DAHNA ROW
 E*\nIce House - Â  9pm\nJake's Smokehouse & BBQ - General Booth -Â Lun
 ch & Early Bird Specials 11am to 5pm\nJagers Â -Â Click here for your 
 FREE coupon for a FREE appetizer at JageR'sÂ andÂ Karaoke w/Â Jonathan
  GuilfoyleÂ 7 to 11pmÂ \nJerry's Restaurant & Lounge - Chesapeake - Â 
  - Get your 1/2 price voucher for food & drink here: Â www.vbhotdeals.
 com\nKeagans - Town Center - STEVE FORSS\" 10pm*\nPoppa's Pub - Open M
 ic with Laced Up 9pm*\nSalty C's - Shore Drive - Open Mic\nShakas - Oc
 eanfront - Â \nStan's American BistroÂ - Â Open Mic Â - 8pm and Happy 
 Hour 4 to 7pm with $6 martinis and more. See all Happy Hour listed on 
 our VBnightlife Mobile App!\nTempt - Open Mic w/ Liana Dagmar 8pmÂ \nW
 ing King - Rosemont - Anthony Rosano 9pm\nWing King - Kempsville - Thu
 rsday Night Football\nWoody McGees - TBAÂ Â 9pm\n\nSpecial Events: Â Â
  \n\nFor more information visit https://vbnightlife.com/events/click-h
 ere-for-thursday-11-13-14-virginia-beach-entertainment-and
DTSTART:20141113T050000Z
DTEND:20141114T045900Z
CATEGORIES:"virginia beach", "virginia beach nightlife", "virginia bea
 ch bands", "virginia beach entertainment"
LOCATION:Virginia Beach, VA
WEBSITE:
URL:
CONTACT:
ORGANIZER;CN="VBnightlife.com":https://vbnightlife.com/profile/admin
ATTACH;FMTTYPE="image/jpeg":http://storage.ning.com/topology/rest/1.0/
 file/get/1664255592?profile=original
ATTENDEE;ROLE=REQ-PARTICIPANT;PARTSTAT=ACCEPTED;RSVP=TRUE;CN="VBnightl
 ife.com":https://vbnightlife.com/profile/admin
END:VEVENT
END:VCALENDAR
