BEGIN:VCALENDAR
PRODID:NingEventWidget-v1
VERSION:2.0
METHOD:PUBLISH
BEGIN:VEVENT
UID:2508951:Event:263328
DTSTAMP:20260422T041205Z
SUMMARY:Click here for HALLOWEEN 2013 VIRGINIA BEACH ENTERTAINMENT LIS
 TINGS
DESCRIPTION:\nLIVE ENTERTAINMENT/ DJ’S/ KARAOKE:\nAbbey Rd.- Mike Pr
 offitt 8:30pm\nBahama Breeze- John Baldwin 5pm-11pm\nBaja Sandbridge- 
 The Unabombers\nBayside Inn- Open Mic hosted by Barry Hicks 8:30pm\nBo
 neshakers Sports Bar and Grill – Everafter 9pm-1am\nCatch 31/ Skyba
 r - DJs - Halloween Party 10pm\nChicks Oyster Bar- Halloween Party - D
 J\nGreen Parrot- Jam Session With Dahna Rowe\nGrumpys- Right On Band 9
 pm to 1am\nIl Giardino – Billy Batte 7pm\nJewish Mother Hilltop- Pil
 lbuster, Deist, Requium, Heretics in the Lab 8pm\nKeagans- Steve Forss
  10pm\nLunasea- DJ Oh Boy 10pm\nMax and Ermas- Mike DeMoss 6pm\nMurphy
 s- The Fighting Jamesons 10pm\nPeabody's - DJ + Cash Prizes for Costum
 e Contest 10pm\nSandbridge Island Grill- Karaoke w/ DJ Cracker 9pm\nSc
 andals- Blue Lords 9pm\nSeaside Market Lounge - Jesse Chong and Gold S
 auce 10pm\nSouth Beach Grill- Rock n Roll Ruckus 9pm\nWoody McGees Bar
 stro – Tim Hopkins Halloween Party 9:30pm\n \n \nSPECIAL EVENTS/C
 ONCERTS/ FESTIVALS:\nGeneric Theater - Carrie\nHaunted Halloween Fest-
  Hunt Club Farms\nComedy at the Café- Pembroke Meadows Cinema Café 9
 pm\nVirginia Stage Company ‘Woman In Black’- Wells Theatre\nMark V
 iera- Virginia Beach Funny Bone\n \n \n \nCLICK HERE FOR THE BEST D
 EALS & COUPONS IN VIRGINIA BEACH FEATURING EXCLUSIVE BARGAINS\n \nCL
 ICK HERE FOR HAPPY HOUR DEALS FEATURING SEVERAL LOCAL RESTAURANTS DAIL
 Y SPECIALS\n \nCLICK HERE REACH OUR VENUE'S PAGE TO FIND ADDRESSES A
 ND PHONE NUMBERS OF PLACES LISTED\n \nCLICK HERE FOR OUR BAND/DJ PAGE
  TO FIND DESCRIPTION OF THE BANDS AND LINKS TO THEIR WEB PAGES\n\nFor
  more information visit https://vbnightlife.com/events/click-here-for-
 thursday-10-31-13-virginia-beach-entertainment-lis
DTSTART:20131031T040000Z
DTEND:20131101T035900Z
CATEGORIES:"virginia beach", "virginia beach nightlife", "virginia bea
 ch bands", "virginia beach entertainment"
LOCATION:Virginia Beach, VA
WEBSITE:
URL:
CONTACT:
ORGANIZER;CN="VBnightlife.com":https://vbnightlife.com/profile/admin
ATTACH;FMTTYPE="image/jpeg":http://storage.ning.com/topology/rest/1.0/
 file/get/1664209874?profile=original
ATTENDEE;ROLE=REQ-PARTICIPANT;PARTSTAT=ACCEPTED;RSVP=TRUE;CN="VBnightl
 ife.com":https://vbnightlife.com/profile/admin
END:VEVENT
END:VCALENDAR
