BEGIN:VCALENDAR
PRODID:NingEventWidget-v1
VERSION:2.0
METHOD:PUBLISH
BEGIN:VEVENT
UID:2508951:Event:298621
DTSTAMP:20260422T091810Z
SUMMARY:Click here for THURSDAY 10/30/14 VIRGINIA BEACH ENTERTAINMENT 
 and EVENTS LISTINGS
DESCRIPTION:\nDownload the new FREE mobile app for Virginia Beach. Â U
 se this link: http://onelink.to/yae3t5Â or Search VBnightlife in the i
 Tunes or Google Play stores today and get a complete list of events, r
 estaurant recommendations, coupons and more!\nÂ Bahama Breeze - Justin
  Furlow 8pm\nChicho' 29th - Counterfeit Molly Halloween Show 9pm\nCoba
 lt Grill - Â Live Music 7:30pm\nDoc Taylor's Seaside Market Lounge - Â
  Proverbial 8pmÂ \nEagle's Nest (Hilltop) -Â Ladies Night - Dualing DJ
 s\nFroggies Cantina by the Bay - Terry Kemp Â 7pm\nGreen Parrot - OPEN
  MIC /w \"DAHNA ROWE*\nIce House - Â  Jack Becker 9pm\nJake's Smokehou
 se & BBQ - General Booth -Â Lunch & Early Bird Specials 11am to 5pm\nJ
 agers Â -Â Click here for your FREE coupon for a FREE appetizer at Jag
 eR's\nJerry's Restaurant & Lounge - Chesapeake - Â Anthony Rosano and 
 the Conqueroos - Get your 1/2 price voucher for food & drink here: Â w
 ww.vbhotdeals.com\nKeagans - Town Center - STEVE FORSS\" 10pm*\nPoppa'
 s Pub - Open Mic with Laced Up 9pm*\nSalty C's - Shore Drive - Open Mi
 c\nStan's American BistroÂ - Â Open Mic Â - 8pm and Happy Hour 4 to 7p
 m with $6 martinis and more. See all Happy Hour listed on our VBnightl
 ife Mobile App!\nTempt - Open Mic w/ Liana Dagmar 8pm + MICHAEL OVERCA
 SH TRIBUTE PARTY*\nWoody McGees - Skip FrielÂ 9pm\nWing King - Rosemon
 t - Seth, Jesse, Larry & Jason 9pm\nWing King - Kempsville - Thursday 
 Night Football\n\nSpecial Events:Â \nHaunted Hunt Club Farm -Â www.VBh
 otdeals.com\nZombie Paintball Outing - Every weekend thru November 1st
 : Â www.VBhotdeals.comÂ Â \n\nZombie Haunted House -Â Peninsula Jaycee
 s\nHALLOWEEKEND NIGHTS AT THE ADVENTURE PARK!\nÂ \n\nFor more informat
 ion visit https://vbnightlife.com/events/click-here-for-thursday-10-30
 -14-virginia-beach-entertainment-and
DTSTART:20141030T040000Z
DTEND:20141031T035900Z
CATEGORIES:"virginia beach", "virginia beach nightlife", "virginia bea
 ch bands", "virginia beach entertainment"
LOCATION:Virginia Beach, VA
WEBSITE:
URL:
CONTACT:
ORGANIZER;CN="VBnightlife.com":https://vbnightlife.com/profile/admin
ATTACH;FMTTYPE="image/jpeg":http://storage.ning.com/topology/rest/1.0/
 file/get/1664249555?profile=original
ATTENDEE;ROLE=REQ-PARTICIPANT;PARTSTAT=ACCEPTED;RSVP=TRUE;CN="VBnightl
 ife.com":https://vbnightlife.com/profile/admin
END:VEVENT
END:VCALENDAR
