BEGIN:VCALENDAR
PRODID:NingEventWidget-v1
VERSION:2.0
METHOD:PUBLISH
BEGIN:VEVENT
UID:2508951:Event:171438
DTSTAMP:20260420T122808Z
SUMMARY:Click here for THURSDAY 10/06/11 VIRGINIA BEACH ENTERTAINMENT 
 LISTING
DESCRIPTION:ENTERTAINMENT\n11th Street Taphouse- Soul & Cigars\nAbbey 
 Road - \"MIKE PROFFITT\"\nChicos-THE CODY AUSTIN BAND\nCinema Cafe-COM
 EDY NIGHT\nGreen Onion - \"RED STAPLER\"\nGreen Parrot -* OPEN MIC /w 
 \"DAHNA ROWE\"\nH2O - \"JESSE CHONG\"\nIL Giardino- Live entertainment
  in the lounge w/ Mr. Billy Batte- 7PM\nJewish Mother - \"EMMITT-NERSH
 I BAND\"\nKeagans - 10pm \"STEVE FORSS\"\nSalty C's - * OPEN MIC 8pm\n
 South Beach Grill - * OPEN MIC\n \nDJ’S/KARAOKE/DANCES:\nPoppas Pub
 - KARAOKE 9:30pm\nWing King- KARAOKE w/DJ JR\nCentral 111 – TWIST T
 HURSDAYS  9PM\nChicho’s  29th - *KARAOKE* Fat Tuesday’s - *KARAO
 KE*\nGeared Up- *KARAOKE*\n Lendy’s - *KARAOKE*\nReef Lounge - *KAR
 AOKE*  9PM Smokies - *KARAOKE*\nSwell the locals break- *KARAOKE* w/ 
 DJ RICHARD DAVIS\nRetro Cafe - *LOCALS VIP NIGHT* 10PM\nBrass Bell- BE
 ER PONG and DJ POLO\nWannaB's- KARAOKE 7 PM - 2 AM  Monday - Saturday
  (21 and Older)  Shakas- BALKAN NIGHT DJ Feelgoodis from 10pm-close 
  \n ($10 21 and under, $5 21 and up )\nCatherines Restaurant and Lou
 nge- KARAOKE 9pm\nPeabodys- LADIES NIGHT 8pm ( LADIES GET IN FREE)\n 
 \nHappy Hour: \n11th Street Taphouse – bogo half-a-tizers 4-9pm\
 n15th Street Raw Bar – clams .50 oysters .75 3-7pm, ny strip + 2 
 sides = $13.99\n\n\nCLICK HERE FOR MORE HAPPY HOUR DEALS\n \nCLICK HE
 RE REACH OUR VENUE'S PAGE TO FIND ADDRESSES AND PHONE NUMBERS OF PLAC
 ES LISTED CLICK HERE FOR OUR BAND/DJ PAGE TO FIND DESCRIPTION OF THE 
 BANDS AND LINKS TO THEIR WEB PAGES\n \nBookings can change at the las
 t minute, so we recommend checking with the venue before heading out!\
 n\n\nFor more information visit https://vbnightlife.com/events/click-h
 ere-for-thursday-10-06-11-virginia-beach-entertainment-lis
DTSTART:20111006T040000Z
DTEND:20111007T035900Z
CATEGORIES:virginia, beach, entertainment, bands, nightlife
LOCATION:virginia Beach
WEBSITE:
URL:
CONTACT:
ORGANIZER;CN="VBnightlife.com":https://vbnightlife.com/profile/admin
ATTACH;FMTTYPE="image/jpeg":http://storage.ning.com/topology/rest/1.0/
 file/get/1664153197?profile=original
ATTENDEE;ROLE=REQ-PARTICIPANT;PARTSTAT=ACCEPTED;RSVP=TRUE;CN="VBnightl
 ife.com":https://vbnightlife.com/profile/admin
END:VEVENT
END:VCALENDAR
