BEGIN:VCALENDAR
PRODID:NingEventWidget-v1
VERSION:2.0
METHOD:PUBLISH
BEGIN:VEVENT
UID:2508951:Event:23874
DTSTAMP:20260422T090404Z
SUMMARY:click here for SUNDAY'S BANDS / NIGHTLIFE / ENTERTAINMENT LIST
 ING
DESCRIPTION:Abbey Road - VB *SUNDAY NFL FOOTBALL*\nBenjack Studio Thea
 tre - N *TODD ROSENLIEB DANCE* 8pm\nBoneshakers - VB \"DUCHESS WILDER 
 BAND\" 3pm\nBoot - N \"FARM TO FEAST WEEK\" 3 Courses $30 all week lon
 g\nBurton's Grill - VB *Acoustic Sunrise Brunch* 11am - 3pm\nChicho's 
 Bar 21st Street - VB \"EASY D\" \"MURPHYS KIDS\" \"EASTERN STANDARD TI
 ME\" \"JACKMOVE\" 8pm\nChick's Oyster Bar - VB *SUNDAY FUNDAY FOOTBALL
 *\nChrysler Hall Generic Theatre - N \"EVIL DEAD: THE MUSICAL\" 2:30pm
 \nClutch Bar & Grill - *SUNDAY NFL FOOTBALL*\nContemporary Art Center 
 - VB *FREE FAMILY FEST* Meet artist \"DAVMO\" 2-4pm\nDiesel - VB *SUND
 AY FOOTBALL*\nDocker's Restaurant & Karaoke Pub - VB *KARAOKE* 9pm\nDo
 ckmasters - Waterside - N - BIG WIDE GRIN 6-8:30\nFat Tuesdays - VB *K
 ARAOKE*\nFly N Fishbone House of Jazz - VB \"SKYLARK SWING JAZZ BAND W
 / SKIP HANCO\" 7:30pm $5\nFunny Bone Comedy Club - VB \"JAKE IANNARINO
 \" 7pm\nGuadalajara's Town Center - VB \"ULTIMATE BEAT BATTLE\" 9:30pm
 \nGreen Parrot Grille - VB - ANOTHER DAY AT THE OFFICE DUO 9:30\nHalf 
 Shell - VB \"JUGGALOS NIGHT OUT\" \"LOCO - UNSTABLE ELBATSNU\" 6pm\nJe
 wish Mother - VB \"ROBIN WELCH\" 11am - 2pm\nKeagan's Town Center - VB
  *KARAOKE*\nKnuckleheads - VB \"MOTORPSYCHIC\" *Benefit for April Benn
 er*\nKokoamos - VB *SUNDAY FOOTBALL*\nLucky Oyster - VB *ALL SPORTS SU
 NDAY!\nMurphy's Irish Pub - VB\nNorva - N \"SOCIAL DISTORTION\"- TAT- 
 \"THE STRANGERS\" \"BRIGHT ANTENNA\" \"MIDDLE CLASS RUT\" 8pm $32.50\n
 Old Dominion University - N \"ODU SYMPHONY ORCHESTRA\" 3pm\nPeppermint
  Beach Club - VB \"D. MELLZ\" $2\nSammy's - VB *KARAOKE*\nSandler Cent
 er - VB *SYMPONICITY: \"MENDELSSOHN AT 200\" 3pm $19-$29\nSouth Beach 
 Grill - VB \"CHASING SHADOWS\"\nTap House - N \"VINNY PECULIAR\" 8pm\n
 TCC Roper Center - VB \"JOSEPH AND THE AMAZING TECHNICOLOR DREAMCOAT\"
  3pm\nUpper Deck - VB *DJ GARY \"US\" BARNES*\nVirginia Beach Conventi
 on Center - VB *TREASURES OF THE EARTH GEM & JEWELRY SHOW* 10am-5pm\nW
 aterside - N - Inside \"BIG WIDE GRIN\" 8:30pm\n\n\nOutdoor Events:\n2
 4th STREET STAGE - VB *VIRGINIA BEACH CRAFT BEER FESTIVAL* 1-6pm\nHunt
  Club Farm - VB *FALL HARVEST FESTIVAL* 10am-6pm\nSTOCKLEY GARDENS ART
 S FESTIVAL - N\n12pm \"TIDEWATER GUITAR ORCHESTRA\"\n1:30pm \"DUNCAN &
  DANIELLE\"\n2:45pm \"JIM NEWSOM QUARTET\"\n4pm \"FAT TONY BAND\"\n4pm
  \"C. SHELLS\"\nOceana Naval Air Station - VB *OCEANA AIR SHOW* 8am\nT
 own Point Park - N *VIRGINIA WINE FESTIVAL* $ \"LEWIS McGEHEE\"\nWater
 side Festival Marketplace - N *ACOUSTIC CONCERTS ON THE WATERFRONT WIT
 H HUNTER HUGHES* \"BIG WIDE GRIN\"\n\nFor more information visit https
 ://vbnightlife.com/events/click-here-for-sundays-bands-6
DTSTART:20091018T040000Z
DTEND:20091019T035900Z
CATEGORIES:band, "/", dj, fundraisers
LOCATION:Virginia Beach / Norfolk
WEBSITE:
URL:
CONTACT:
ORGANIZER;CN="VBnightlife.com":https://vbnightlife.com/profile/admin
ATTACH;FMTTYPE="image/jpeg":http://storage.ning.com/topology/rest/1.0/
 file/get/1664089504?profile=original
ATTENDEE;ROLE=REQ-PARTICIPANT;PARTSTAT=ACCEPTED;RSVP=TRUE;CN="VBnightl
 ife.com":https://vbnightlife.com/profile/admin
END:VEVENT
END:VCALENDAR
