BEGIN:VCALENDAR
PRODID:NingEventWidget-v1
VERSION:2.0
METHOD:PUBLISH
BEGIN:VEVENT
UID:2508951:Event:13710
DTSTAMP:20260420T155031Z
SUMMARY:click here for SUNDAY'S BAND / EVENT LISTING
DESCRIPTION:Abbey Road - VB \"BERNIE LEE\nCentral 111 - DJ SWIVVEL\nCo
 zumel - dj HEAT from DC\nCP Shuckers - JESSE CHONG\nHoT Tuna - JACKMOV
 E 9:30\nJewish Mother - VB \"ERIC LINDELL\"\nKnuckleheads - VB \"SNACK
 BAR JONES\"\nKokoamos - VB \"BUTTER\nMurphy's - THE HAVERS\nNorva - No
 rfolk \"PRETTYY LIGHTS\"\nOff Shore Bar & Grill - VB \"PART TIME SAINT
 S\nTap House - Norfolk \"JESSE CHONG BAND\n\nOUTDOOR EVENTS\n7th STREE
 T STAGE - 10 SPOT\n\n17th STREET STAGE\n08:00pm \"SEAN PATRICK McGRAW\
 "\n09:30pm \"COLT FORD\"\n\n24th STREET STAGE\n08:00pm \"RIVER CITY GA
 NG\"\n09:30pm \"JASON MICHAEL CARROLL\n\n31st STREET STAGE\n07:30pm \"
 JOHN MOONEY & BLUESIANA\"\n09:15pm \"MARCIA BALL\"\n\nBUSCH GARDENS * 
 SOCK HOP NIGHTS * \"FRANKIE AVALON\"\nGreenies Deck - Norfolk \"TIDEWA
 TER DRIVE\" 5-9pm\nPUNGO STRAWBERRY FESTIVAL - Pungo - VB\n09:00 am \"
 Roan Mountain Bluegrass\" - Pungo\n10:00 am \"Old Time Gospel Singers\
 " - Pungo\n11:00 am \"The Joys\" - Pungo\n11:00 am \"The Churchmen\" -
  Country\n01:00 pm \"The Entertainers\" - Pungo\n01:00 pm \"Heather Ed
 wards Band\" - Country\n03:00 pm \"Bill Deal’s Rhondels\" - Pungo\n0
 3:15 pm \"Black Cat Road\" - Country\n05:00 pm \"The Beachnuts\" - Pun
 go\n\nBIG BANDS ON THE BAY - Ocean View Park - Norfolk \"ATLANTIC FLEE
 T JAZZ ENSMBLE\"\nSTRINGER'S 18th STREET CAFE - VB \"3 MEN & A BOX\" 8
 pm\n\nFor more information visit https://vbnightlife.com/events/click-
 here-for-sundays-band-6
DTSTART:20090524T040000Z
DTEND:20090525T035900Z
CATEGORIES:band, dj
LOCATION:Virginia Beach / Norfolk
WEBSITE:
URL:
CONTACT:
ORGANIZER;CN="Nicole Maxino":https://vbnightlife.com/profile/NicoleMax
 ino
ATTACH;FMTTYPE="image/jpeg":http://storage.ning.com/topology/rest/1.0/
 file/get/1664072940?profile=original
ATTENDEE;ROLE=REQ-PARTICIPANT;PARTSTAT=ACCEPTED;RSVP=TRUE;CN="Nicole M
 axino":https://vbnightlife.com/profile/NicoleMaxino
END:VEVENT
END:VCALENDAR
