BEGIN:VCALENDAR
PRODID:NingEventWidget-v1
VERSION:2.0
METHOD:PUBLISH
BEGIN:VEVENT
UID:2508951:Event:31951
DTSTAMP:20260421T053930Z
SUMMARY:click here for SUNDAY'S BAND / EVENT / NIGHTLIFE LISTING
DESCRIPTION:Abbey Road - VB \"BERNIE LEE\"\nAJ Gators - VB General Boo
 th *KARAOKE/DANCE PARTY* w/DJ Eddie 9pm\nChrysler Hall - N *THE WIZARD
  OF OZ\"\nCostal Grill - VB \"DIMITAR ZAREV\" 5:30pm\nDanceSportVB - V
 B *SOCIAL DANCE*\nDocker's Restaurant & Karaoke Pub - VB *KARAOKE* 9pm
 \nFat Tuesdays - VB *KARAOKE*\nFunny Bone Comedy Club - VB \"LONI LOVE
 \"\nGreen Parrot - VB '\"ILLY GOODWIN\"\nH2O - VB - \"NATE ALLEN\"\nHo
 ok's Saltwater Grill - VB \"Shaggin' Sunday\" 4pm\nIl Giardino's - VB 
 \"JOE BOND\"\nJewish Mother - VB \"ROBIN WELCH\" 11am\nKempsville Comm
 unity Rec Center - VB *THE DAY THE STARS CAME OUT* DANCE SHOW\nLittle 
 Theatre of Norfolk - N *12 ANGRY MEN*\nLittle Theatre of Virginia Beac
 h - VB \"ALL MY SONS\"\nLuxury Brown - VB *KARAOKE*\nMurphy's Irish Pu
 b - VB \"KARL WERNER\"\nNorVa - N \"MAT KEARNEY & IGRID MICHAELSON\"\n
 Omega - VB *DJ ADD4RIGHT*\nSammy’s - VB *KARAOKE*\nSandler Center - 
 VB *BROADWAY AT THE CENTER - THE CIVIL WAR*\nSkate High - VB \"THE ATA
 RIS\"\nSouth Beach Grill - VB \"DAVE, KATE, ROSS\"\nTCC Roper Performi
 ng Arts Center - N \"THE ADVENTURES OF TOM SAWYER\"\nUpper Deck - VB *
 SHAG SUNDAY* W/DJ GARY \"US\" BARNES 4pm\n\nOUTDOOR EVENTS\nSHAMROCK M
 ARATHON - VB \"CHASING ARROWS\" + \"BORDERLINE CRAZY\"\n\nFor more inf
 ormation visit https://vbnightlife.com/events/click-here-for-sundays-b
 and-41
DTSTART:20100321T040000Z
DTEND:20100322T035900Z
CATEGORIES:band, "/", dj
LOCATION:VIRGINIA BEACH / NORFOLK
WEBSITE:
URL:
CONTACT:
ORGANIZER;CN="VBnightlife.com":https://vbnightlife.com/profile/admin
ATTACH;FMTTYPE="image/jpeg":http://storage.ning.com/topology/rest/1.0/
 file/get/1664103248?profile=original
ATTENDEE;ROLE=REQ-PARTICIPANT;PARTSTAT=ACCEPTED;RSVP=TRUE;CN="VBnightl
 ife.com":https://vbnightlife.com/profile/admin
END:VEVENT
END:VCALENDAR
