BEGIN:VCALENDAR
PRODID:NingEventWidget-v1
VERSION:2.0
METHOD:PUBLISH
BEGIN:VEVENT
UID:2508951:Event:12991
DTSTAMP:20260425T225622Z
SUMMARY:click here for SUNDAY'S BAND / EVENTS LISTING
DESCRIPTION:7ths Street Stage - MAHI MAHS AND CHIX - THE RAY PITTMAN P
 ROJECT 6PM\nAbbey Road - VB \"BERNIE LEE\nCabo - EURO NIGHT\nCentral 1
 11 - WHITE PARTY + LANCE TREADWAY'S BDAY BASH with DJ VITALI\nChrysler
  Hall - ROMEO & JULIETTE with THE VIRGINIA SYMPHONY ORCHESTRA\nConstan
 t Convocation Center - Norfolk \"STYLISTIC'S + CHILITES + MANHATTANS +
  DRAMATICS + more\nHell's Kitchen - Norfolk \"PAWN SHOP LIFTERS\"\nMan
 hattans - NN \"SNACKBAR JONES\"\nNorva - Norfolk \"DRAGONFORCE\nSouth 
 Beach Grill - DAVE, KATE AND ROSS\nSaddle Ridge ** A TRIBUTE TO WALT R
 EDMOND JR **\n$ 10 DONATION - 21 & Up - Proceeds to Walt Redmond Jr Me
 morial Fund\nBIG STAGE\nBUTTER\nSNACKBAR JONES\nFINE SWISS CHEESE\nHEY
  HEY HOOLIGAN\nKRUNCH\nWALT REDMOND, SR.\nBORDERLINE CRAZY\nCRAZY X\nV
 INYL HEADLIGHTS\nEAST COAST ROCKERS\nEXCESS BAGGAGE\nSOUL PATCH\nSUPER
  GLUE\n\nCHEYENNE STAGE\nAREA'S BEST ACOUSTIC ACTS\nBRAD STREET\nJOHN 
 HARRELL\nINSLEY & BAGGETT\nDON BUTCHER\nSUZY-RAY-VAUGHN\nPLASTIC EDDIE
 \nTIM MORGAN\nBRIAN SEWELL\n\nOPEN MIC 4 - 6:30\n\nOUTDOOR EVENTS\n31s
 t STREET STAGE - VB \"F A B\"\nBUSCH GARDENS * BUD & BBQ * \"38 SPECIA
 L\n\nFor more information visit https://vbnightlife.com/events/click-h
 ere-for-sundays-band-4
DTSTART:20090510T190000Z
DTEND:20090511T020000Z
CATEGORIES:band, dj
LOCATION:Virginia Beach / Norfolk
WEBSITE:
URL:
CONTACT:
ORGANIZER;CN="Nicole Maxino":https://vbnightlife.com/profile/NicoleMax
 ino
ATTACH;FMTTYPE="image/jpeg":http://storage.ning.com/topology/rest/1.0/
 file/get/1664074395?profile=original
ATTENDEE;ROLE=REQ-PARTICIPANT;PARTSTAT=ACCEPTED;RSVP=TRUE;CN="Nicole M
 axino":https://vbnightlife.com/profile/NicoleMaxino
END:VEVENT
END:VCALENDAR
