BEGIN:VCALENDAR
PRODID:NingEventWidget-v1
VERSION:2.0
METHOD:PUBLISH
BEGIN:VEVENT
UID:2508951:Event:30834
DTSTAMP:20260420T044230Z
SUMMARY:click here for SUNDAY'S BAND / EVENT / NIGHTLIFE LISTING
DESCRIPTION:AJ Gators - VB General Booth *KARAOKE/DANCE PARTY* w/DJ Ed
 die 9pm\nCentral 111 - VB *DJ STEVE JACKSON vs DJ PLATEAU*\nCostal Gri
 ll - VB \"DIMITAR ZAREV\" 5:30pm\nDanceSportVA - VB *SOCIAL DANCE*\nDi
 esel - VB \"HEATHER JEANETTE BAND\"\nDocker's Restaurant & Karaoke Pub
  - VB *KARAOKE* 9pm\nFat Tuesdays - VB *KARAOKE*\nFunny Bone Comedy Cl
 ub - VB \"ALONZO BODDEN\"\nGil's - VB \"SILENT CIVILIAN\"\nGreen ParrO
 t - VB OPEN MIC /w BILLY GOODWIN\"\nH2O - VB *OPEN MIC* 8:30pm\nHaygoo
 d Skating center - VB *DOMINION DERBY GIRLS ALL STARS vs RIVER CITY RO
 LLERGIRLS POE'S PUNISHERS*s Saltwater Grill - VB \"Shaggin' Sunday\" 4
 pm\nHalf Shell - VB \"SUNDAY NIGHT SCENE W/JACT\"\nH K on the Bay - VB
  \"JESSE CHONG\"\nHook's Saltwater Grill - VB \"Shaggin' Sunday\" 4pm\
 nIl Giardino's - VB \"JOE BOND\"\nJewish Mother - VB \"ROBIN WELCH\" C
 lassical Guitar 11am-1pm\nKeagan's Town Center - VB *KARAOKE*\nLuxury 
 Brown - VB *KARAOKE*\nMarriott Waterside Norfolk - N *A STROLLING SUPP
 ER PARTY* W/WHAM BAM BIG BAND\nMurphy's Irish Pub - VB - \"KARL WERNE\
 "\nNorfolk Botanical Garden - N *GOSPEL IN THE GARDEN* 3PM\nOmega - VB
  *DJ ADD4RIGHT*\nSammy’s - VB *KARAOKE*\nSandler Center - VB *MENOPA
 USE THE MUSICAL* 2PM\nSelden Arcade - N *THE CONSCIOUS PARTY* W/ SKYE 
 ZENTZ, GAYLA ROBINSON\nSharx - VB *Winter Olympic Coverage* 6pm Feb 12
  - 28th\nSouth Beach Grill - VB \"SOUTHERN BLEND\" 6pm\nSkate High - V
 B \"EYES OF GLORY\"\nUpper Deck - VB *SHAG SUNDAY* W/DJ GARY \"US\" BA
 RNES 4pm\nWells Theatre - VB \"AROUND THE WORLD IN 80 DAYS\"\n\nFor mo
 re information visit https://vbnightlife.com/events/click-here-for-sun
 days-band-38
DTSTART:20100228T050000Z
DTEND:20100301T045900Z
CATEGORIES:band, "/", dj
LOCATION:VIRGINIA BEACH / NORFOLK
WEBSITE:
URL:
CONTACT:
ORGANIZER;CN="VBnightlife.com":https://vbnightlife.com/profile/admin
ATTACH;FMTTYPE="image/jpeg":http://storage.ning.com/topology/rest/1.0/
 file/get/1664100259?profile=original
ATTENDEE;ROLE=REQ-PARTICIPANT;PARTSTAT=ACCEPTED;RSVP=TRUE;CN="VBnightl
 ife.com":https://vbnightlife.com/profile/admin
END:VEVENT
END:VCALENDAR
