BEGIN:VCALENDAR
PRODID:NingEventWidget-v1
VERSION:2.0
METHOD:PUBLISH
BEGIN:VEVENT
UID:2508951:Event:12330
DTSTAMP:20260425T225622Z
SUMMARY:click here for SUNDAY'S BAND / EVENTS LISTING
DESCRIPTION:Cabo Cafe - ANTHONY PAUL'S MUSIC PAGE 10PM\nCatch 31 - CAR
 IBBEAN STEEL 12-4; SAVANNAH 6-10PM\nJewish Mother - MATT MCGUIRE\nKeag
 an's Town Center - JACK BECKER\nMurphy's - KARL WERNE AND EDDIE WILLIA
 MS\nSouth Beach Grill - NATURE'S CHILD\n\nFor more information visit h
 ttps://vbnightlife.com/events/click-here-for-sundays-band-3
DTSTART:20090503T040000Z
DTEND:20090504T035900Z
CATEGORIES:band, dj
LOCATION:Virginia Beach / Norfolk
WEBSITE:
URL:
CONTACT:
ORGANIZER;CN="Nicole Maxino":https://vbnightlife.com/profile/NicoleMax
 ino
ATTACH;FMTTYPE="image/jpeg":http://storage.ning.com/topology/rest/1.0/
 file/get/1664070740?profile=original
ATTENDEE;ROLE=REQ-PARTICIPANT;PARTSTAT=ACCEPTED;RSVP=TRUE;CN="Nicole M
 axino":https://vbnightlife.com/profile/NicoleMaxino
END:VEVENT
END:VCALENDAR
