BEGIN:VCALENDAR
PRODID:NingEventWidget-v1
VERSION:2.0
METHOD:PUBLISH
BEGIN:VEVENT
UID:2508951:Event:11348
DTSTAMP:20260423T010836Z
SUMMARY:click here for SUNDAY'S BAND / EVENTS LISTING
DESCRIPTION:Abbey Road - VB \"BERNIE LEE\nCabo - ANTHONY PAUL'S MUSIC 
 PAGE\nCentral 111 - DJ B-Swivvel\nClutch - VB - DIRTY TOYS, DAHNA ROWE
 , THE FORCE\nHalf Shell - CONSTRUKT W/ SPINESHANK\nJewish Mother - VB 
 \"COPELAND\" + \"PAPER ROUTE\" + More\nKnuckleheads - VB ** JEFF CAPPS
  BENEFIT ** \"THE RIVER BOYZ\" 1-4pm\nMurphy's Irish Pub - VB \"KARL W
 ERNE\nSouth Beach Grill - JESSE CHONG\nThe Upper Deck - MYSTIC SOUL BU
 BBAS\n\nGOSPEL FEST - 17th STREET STAGE - VB\n01:00pm \"ROCKET\"\n01:4
 0pm \"CREATED ANOINTED\"\n02:20pm \"GOSPIZZLE\"\n03:40pm \"WYNUECO WAS
 HINGTON\"\n04:20pm \"GODZ BOYS\"\n05:00pm \"MT LEBANON BAPTIST CHURCH 
 MASS CHOIR\"\n05:40pm \"MAURICE YANCY & ONE ACCORD\"\n06:20pm \"PATRIC
 K RIDDICK & DYVINE WORSHIP\"\n07:00pm \"KIM THOMAS\"\n07:40pm \"FIREPR
 OOF\"\n08:20pm \"LIKE PRECIOUS FAITH\"\n09:00pm \"HEMOTHERAPY\"\n09:40
 pm \"DONALD ASHLEY & MILLENNIUM\"\n\nMERLEFEST - Wilkes Community Coll
 ege - Wilkesboro NC\nREDBONES DECK - Ches \"WEST & DANIELS\" 4:30pm\n\
 nFor more information visit https://vbnightlife.com/events/click-here-
 for-sundays-band-2
DTSTART:20090426T040000Z
DTEND:20090427T035900Z
CATEGORIES:bands, dj
LOCATION:Virginia Beach / Norfolk
WEBSITE:
URL:
CONTACT:
ORGANIZER;CN="Nicole Maxino":https://vbnightlife.com/profile/NicoleMax
 ino
ATTACH;FMTTYPE="image/jpeg":http://storage.ning.com/topology/rest/1.0/
 file/get/1664072331?profile=original
ATTENDEE;ROLE=REQ-PARTICIPANT;PARTSTAT=ACCEPTED;RSVP=TRUE;CN="Nicole M
 axino":https://vbnightlife.com/profile/NicoleMaxino
END:VEVENT
END:VCALENDAR
