BEGIN:VCALENDAR
PRODID:NingEventWidget-v1
VERSION:2.0
METHOD:PUBLISH
BEGIN:VEVENT
UID:2508951:Event:17044
DTSTAMP:20260425T130142Z
SUMMARY:click here for SUNDAY'S BAND / EVENT LISTING
DESCRIPTION:37th & ZEN - N \"NBN BLUES NETWORK FUNDRAISER JAM\" 4pm\nA
 bbey Road - VB \"BERNIE LEE\"\nBoneshakers - VB \"WEST & DANIELS\" 3pm
 \nCentral 111 - FIRE AND ICE PARTY Dj Aldo Ron Sanchez &Steve Abitbol\
 nCP Shuckers - JESSE CHONG 2 - 5\nFunny Bone Comedy Clue - VB \"J. MED
 ICINE HAT\"\nGreenie's Deck - N \"BORDERLINE CRAZY\"\nHot Tuna - VB \"
 JACKMOVE\"\nJewish Mother - VB \"ROBIN WELCH\" 11am-2pm\nKokoamos - VB
  \"BIKINI CONTEST\"\nLight House Restaurant - VB \"ED KELLEHER\" 8-11p
 m\nLunasea - VB \"JESSE CHONG\"\nMurphy's Irish Pub - VB\nParadocks PD
 X Grille - N \"JOE MANISCALCO\" 11:30am-01:30pm Brunch\nPeppermint Bea
 ch Club - VB \"HONOUR CREST\"\nSandbridge Island Bar & GRill - VB \"ED
  KELLEHER\" 4-8pm\nSouth Beach Grill - RAY PITTMAN PROJECT\nWaterman's
  Surfside Grille - VB \"JACK BECKER\"\nWyndham Hotel - 57th & Atlantic
  - BJ LEIDERMAN & kEN McNEILL 1 - 4PM\n\nOUTDOOR EVENTS\n7th STREET ST
 AGE - VB \"BUTTER\"\n13th STREET STAGE - VB \"PATSY CLINE TRIBUTE BAND
 \" 7pm, 8pm, & 9pm.\n17th STREET STAGE - VB \"THE BEST OF BEACHSTREET\
 "\n24th STREET STAGE - VB \"THE MAGIC OF KRENDL AND CO.\" 7:30pm, 8:30
 pm & 9:30pm\n25th STREET PARK - VB \"THE WITCH OF PUNGO\" 8:30pm, 9:15
  pm., & 10:00 pm.\n31st STREET STAGE - VB \"TROPICAL STEEL\" 12-4pm + 
 \"RHYTHM KINGS\" 6pm\nGREENIES DECK - N \"BORDERLINE CRAZY\"\nHOOK's -
  Rude Inlet - VB \"LEWIS McGEHEE\" 4pm\nOCEAN HOUSE - VB \"ANDY HARREL
 L\" 2pm\nSTRINGER'S 18th STREET CAFE - VB \"3 MEN & A BOX\" 8pm\n\nFor
  more information visit https://vbnightlife.com/events/click-here-for-
 sundays-band-14
DTSTART:20090719T040000Z
DTEND:20090720T035900Z
CATEGORIES:band, "/", dj
LOCATION:VB / NORFOLK
WEBSITE:
URL:
CONTACT:
ORGANIZER;CN="VBnightlife.com":https://vbnightlife.com/profile/admin
ATTACH;FMTTYPE="image/jpeg":http://storage.ning.com/topology/rest/1.0/
 file/get/1664079835?profile=original
ATTENDEE;ROLE=REQ-PARTICIPANT;PARTSTAT=ACCEPTED;RSVP=TRUE;CN="VBnightl
 ife.com":https://vbnightlife.com/profile/admin
END:VEVENT
END:VCALENDAR
