BEGIN:VCALENDAR
PRODID:NingEventWidget-v1
VERSION:2.0
METHOD:PUBLISH
BEGIN:VEVENT
UID:2508951:Event:78927
DTSTAMP:20260423T161147Z
SUMMARY:Click here for SUNDAY'S VIRGINIA BEACH ENTERTAINMENT LISTING
DESCRIPTION:\nVIEW BASEBALL SCHEDULES IN NORFOLK BY CLICKING HERE\nCLI
 CK HERE REACH OUR VENUE'S PAGE TO FIND ADDRESSES AND PHONE NUMBERS OF 
 PLACES LISTED\nCLICK HERE FOR OUR BAND/DJ PAGE TO FIND DESCRIPTION OF 
 THE BANDS AND LINKS TO THEIR WEB PAGES\nENTERTAINMENT:\nBookings can c
 hange at the last minute, so we recommend checking with the venue befo
 re heading out!\n11th St. Taphouse – BRENT SHEPARD 3-6PM\nAbbey Road
  – BERNIE LEE 9:30PM\nBoneshakers – JAMES DEANS 1:30-5:30PM\nMurph
 y’s – KARL WERNE 9PM\nSouth Beach Grill – DANNY MORGAN & ANDY HA
 RRELL  9PM\n \nTHEATRE/FUNDRAISERS/CONCERTS/SPORTS:\nCatholic High S
 chool’s Barry Rodinson Theatre – “THE DROWSY CHAPERONE”  2PM
 \nKokoamo’s – NIGHT AT THE RACES TO BENEFIT CHKD 4PM \nSandler C
 enter – VIRGINIA SYMPHONY ORCHESTRA PRESENTS: “SCHEHEREZADE!” 2:
 30PM\nShaka’s – COMEDY FACTORY SUNDAYS 7PM\nVirginia Beach Convent
 ion Center – US CHEER & DANCE COMPETITION FINALS\n \n \nDJ’S/KAR
 AOKE/DANCES:\nDanceSportVA – SUNDAY EVENING SOCIAL DANCE 7PM\nFat Tu
 esday’s - *KARAOKE*\nKeagan’s – *KARAOKE*\nReef Lounge - *KARAOK
 E*  9PM\nRetro Café – DJ RAW BASE\nTropical Delights – CHICAGO S
 TYLE STEPPIN’ BEGINNER LESSONS 6:30-8PM\n \nFAMILY FUN/SPECIAL EVEN
 TS:\nBack Bay Nat’l Wildlife Refuge – BLUE GOOSE TRAM  9AM-1PM\nF
 alse Cape State Park – WELCOME TO WASH WOODS HISTORY TOUR  9AM-1PM\
 nOld Cape Henry Lighthouse – “OUT WITH THE LIGHT” HISTORIC RE-EN
 ACTMENT  12-3PM\n\n\nFor more information visit https://vbnightlife.c
 om/events/click-here-for-sundays-9
DTSTART:20110410T040000Z
DTEND:20110411T035900Z
CATEGORIES:"virginia beach", "virginia beach events", "virginia beach 
 bands", "virginia beach entertainment"
LOCATION:VIRGINIA BEACH
WEBSITE:
URL:
CONTACT:
ORGANIZER:VBnightlife.com / VBdaylife.com
ATTACH;FMTTYPE="image/jpeg":http://storage.ning.com/topology/rest/1.0/
 file/get/1664132585?profile=original
ATTENDEE;ROLE=REQ-PARTICIPANT;PARTSTAT=ACCEPTED;RSVP=TRUE;CN="VBnightl
 ife.com":https://vbnightlife.com/profile/admin
END:VEVENT
END:VCALENDAR
