BEGIN:VCALENDAR
PRODID:NingEventWidget-v1
VERSION:2.0
METHOD:PUBLISH
BEGIN:VEVENT
UID:2508951:Event:146659
DTSTAMP:20260424T120521Z
SUMMARY:Click here for SUNDAY'S VIRGINIA BEACH ENTERTAINMENT LISTING
DESCRIPTION:\nCLICK HERE REACH OUR VENUE'S PAGE TO FIND ADDRESSES AND 
 PHONE NUMBERS OF PLACES LISTED\nCLICK HERE FOR OUR BAND/DJ PAGE TO FIN
 D DESCRIPTION OF THE BANDS AND LINKS TO THEIR WEB PAGES\nENTERTAINMENT
 :\nBookings can change at the last minute, so we recommend checking wi
 th the venue before heading out!\n7th St. Stage - THE JANITORS  5PM11
 th St. Taphouse – KATE & DAVE 2-5PM13th St. Stage - PATSY CLINE: A T
 RIBUTE  7-10PM31st St. Stage - ONE LOVE STEEL BAND  12-4PM31st St. S
 tage - KUSTOM MADE  7-11PMAbbey Road – JOE HEILMAN  9:30PMCalypso 
 - MIKE DEMOSS 1-5PMChicho’s 29th - NO DREADS ACOUSTIC  3-6PMHarry O
 ’s – LIVE JAZZ, HARRY-OKE 9PM (Ages 25+)Il Giardino - REGINALD BLA
 CKWELL: THE SOUNDS OF FRANK SINATRA  Jewish Mother Hilltop - MIKE PIN
 TO + GROOVE STAIN  9PMKnuckleheads - THE TRAILERHOOD  3PMLighthouse 
 Beachside Grille - ED KELLEHER  8-11PMMurphy’s - BRENT SHEPARD  9P
 M\Scandals Deck - STACIE & STEVE  3-7PMSouth Beach Grill – TRAFFIC 
 ON THE BACKBONE  8PMStringer’s - BORDERLINE CRAZY TRIO  8-11:30PMT
 own Center Fountain Plaza - THRIFT STORE JUNKY  6-9PMTHEATRE/FUNDRAIS
 ERS/CONCERTS/SPORTS:Little Theater of Virginia Beach - “GUYS AND DOL
 LS”  2:30PM  ($14/5)Shaka’s – COMEDY FACTORY SUNDAYS FEAT. ALE
 X SCOTT  7PMSmokey Bones - *10 CUP BEER PONG TOURNAMENT*  9PM  $100
  PRIZEDJ’S/KARAOKE/DANCES:Baker Street - *KARAOKE*  8PMFat Tuesday
 s - *KARAOKE*H2O - *OPEN MIC*  9:30PMHK on the Bay - *SOUL HAVEN OP
 EN MIC*  9PMKeagan’s – *KARAOKE*Poppa’s Pub - *KARAOKE* 9:30PMR
 eef Lounge - *KARAOKE*  9PMRetro Café – DJ RAW BASE  10PMTropical
  Delights – CHICAGO STYLE STEPPIN’ BEGINNER LESSONS 6:30-8PMFAMILY
  FUN/SPECIAL EVENTS:20th Street – BEACHSTREET FIREWORKS17th St. Stag
 e - BLACKBEARD & CALICO JACK PIRATE SHOW  7:30-10:30PM24th St. Stage 
 - KRENDL & COMPANY MAGICAL VARIETY SHOW  7:30-10:30PM\nVirginia Aquar
 ium - “DISCOVER THE WOODS” WILDLIFE SEARCH  10AM-4PM  (WEATHER P
 ERMITTING)\n\n \n\nFor more information visit https://vbnightlife.com
 /events/click-here-for-sundays-449
DTSTART:20110724T040000Z
DTEND:20110725T035900Z
CATEGORIES:"virginia beach", "virginia beach events", "virginia beach 
 bands", "virginia beach entertainment"
LOCATION:Virginia Beach
WEBSITE:
URL:
CONTACT:
ORGANIZER:VBnightlife.com / VBdaylife.com
ATTACH;FMTTYPE="image/jpeg":http://storage.ning.com/topology/rest/1.0/
 file/get/1664148710?profile=original
ATTENDEE;ROLE=REQ-PARTICIPANT;PARTSTAT=ACCEPTED;RSVP=TRUE;CN="VBnightl
 ife.com":https://vbnightlife.com/profile/admin
END:VEVENT
END:VCALENDAR
