BEGIN:VCALENDAR
PRODID:NingEventWidget-v1
VERSION:2.0
METHOD:PUBLISH
BEGIN:VEVENT
UID:2508951:Event:146671
DTSTAMP:20260423T102705Z
SUMMARY:Click here for SUNDAY'S VIRGINIA BEACH ENTERTAINMENT LISTING
DESCRIPTION:\nENTERTAINMENT:Bookings can change at the last minute, so
  we recommend checking with the venue before heading out! 7th St. Stag
 e - HEY HEY HOOLIGAN  5-9PM11th St. Taphouse – KATE & DAVE  2-5PM1
 3th St. Stage - PATSY CLINE: A TRIBUTE  7-10PM17th St. Stage - JULIUS
  PITTMAN REVIVAL  8-10:30PM31st St. Stage - ONE LOVE STEEL BAND  12-
 4PM31st St. Stage - SAVANNAH  7-11PMCalypso - MIKE DEMOSS 1-5PMChicho
 ’s 29th - NO DREADS ACOUSTIC  3-6PMHarry O’s – LIVE JAZZ, HARRY
 -OKE 9PM (Ages 25+)Il Giardino - REGINALD BLACKWELL: THE SOUNDS OF FRA
 NK SINATRA\nJewish Mother - BAND OF HORSES 9PMKokoamo’s Deck - BORDE
 RLINE CRAZY TRIO  5-9PM Lighthouse Beachside Grille - ED KELLEHER  8
 -11PMMurphy’s - BRENT SHEPARD  9PMSouth Beach Grill – MOCEAN 8PMS
 well - KEVIN MAC UNPLUGGED  6-9PM THEATRE/FUNDRAISERS/CONCERTS/SPORT
 S:Little Theater of Virginia Beach - “GUYS AND DOLLS”  2:30PM ($1
 4/5) Shaka’s – COMEDY FACTORY SUNDAYS 7PMSmokey Bones - *10 CUP B
 EER PONG TOURNAMENT*  9PM  $100 PRIZETODAY’S TIDES BASEBALL SCHEDU
 LE FOUND ON NORFOLKNIGHTLIFE.COMDJ’S/KARAOKE/DANCES:Baker Street - *
 KARAOKE*  8PMFat Tuesday’s - *KARAOKE*H2O - *OPEN MIC*  9:30PMHang
 ar 09 - SPOSE  7-11PM  ($12)HK on the Bay - *SOUL HAVEN OPEN MIC*  
 9PMKeagan’s – *KARAOKE*Poppa’s Pub - *KARAOKE* 9:30PMReef Lounge
  - *KARAOKE*  9PMRetro Café – DJ RAW BASE  10PMTropical Delights 
 – CHICAGO STYLE STEPPIN’ BEGINNER LESSONS 6:30-8PMFAMILY FUN/SPECI
 AL EVENTS:20th Street – BEACHSTREET FIREWORKS  10PM24th St. Stage -
  KRENDL & COMPANY MAGICAL VARIETY SHOW  7:30-10:30PMGreat Neck Park -
  *36TH ANNUAL ARTISANS IN THE PARK* FEAT. GAN ALNM + JOHNNY J  10AM-6
 PMTown Center Fountain Plaza - BEACHSTREET & BALLOON ACT  6-9PMVirgin
 ia Aquarium - “DISCOVER THE WOODS” WILDLIFE SEARCH  10AM-4PM  (W
 EATHER PERMITTING)\n \nCLICK HERE REACH OUR VENUE'S PAGE TO FIND ADDR
 ESSES AND PHONE NUMBERS OF PLACES LISTED\nCLICK HERE FOR OUR BAND/DJ P
 AGE TO FIND DESCRIPTION OF THE BANDS AND LINKS TO THEIR WEB PAGES\n\n\
 nFor more information visit https://vbnightlife.com/events/click-here-
 for-sundays-376
DTSTART:20110807T040000Z
DTEND:20110808T035900Z
CATEGORIES:"virginia beach", "virginia beach events", "virginia beach 
 bands", "virginia beach entertainment"
LOCATION:Virginia Beach
WEBSITE:
URL:
CONTACT:
ORGANIZER:VBnightlife.com / VBdaylife.com
ATTACH;FMTTYPE="image/jpeg":http://storage.ning.com/topology/rest/1.0/
 file/get/1664144063?profile=original
ATTENDEE;ROLE=REQ-PARTICIPANT;PARTSTAT=ACCEPTED;RSVP=TRUE;CN="VBnightl
 ife.com":https://vbnightlife.com/profile/admin
END:VEVENT
END:VCALENDAR
