BEGIN:VCALENDAR
PRODID:NingEventWidget-v1
VERSION:2.0
METHOD:PUBLISH
BEGIN:VEVENT
UID:2508951:Event:146756
DTSTAMP:20260423T214518Z
SUMMARY:Click here for SUNDAY'S VIRGINIA BEACH ENTERTAINMENT LISTING
DESCRIPTION:\nCLICK HERE REACH OUR VENUE'S PAGE TO FIND ADDRESSES AND 
 PHONE NUMBERS OF PLACES LISTED\nCLICK HERE FOR OUR BAND/DJ PAGE TO FIN
 D DESCRIPTION OF THE BANDS AND LINKS TO THEIR WEB PAGES\nENTERTAINMENT
 :Bookings can change at the last minute, so we recommend checking with
  the venue before heading out! 7th St. Stage - RIVER BOYZ  5-9PM11th 
 St. Taphouse – BRANDON BOWER  2-5PM13th St. Stage - PATSY CLINE: A 
 TRIBUTE  7-10PM\n19th St. Ocean House - JAMES DEANS  1-5PM31st St. S
 tage - CARIBBEAN STEEL  12-4PM31st St. Stage - THE RHONDELS  7-11PMA
 bbey Road - BERNIE LEE  9:30PMH2O - LEWIS MCGEHEE  6:30PM, OPEN MIC 
  9:30PMHarry O’s – LIVE JAZZ, HARRY-OKE 9PM (Ages 25+)Il Giardino
  - REGINALD BLACKWELL: THE SOUNDS OF FRANK SINATRA  Jamaica Inn - *OP
 EN MIC* w/ ERIC & BRYAN  8:30PMJewish Mother Hilltop - CARBON JAM  8
 PMKokoamo’s - BORDERLINE CRAZY TRIO  5-9PMLighthouse Beachside Gril
 le - ED KELLEHER  8-11PMMurphy’s - JESSE CHONGScandals - *PATIO PAR
 TY* w/ BAREFOOT & CRAZY  2-6PMSouth Beach - JESSE CHONG  9:30PM\nStr
 ingers - BORDERLINE CRAZY  8PM\nTodd Jurich's Burger Bar - JACK BECKE
 R  5-9PMTHEATRE/FUNDRAISERS/CONCERTS/SPORTS:Association for Research 
 & Enlightenment - *KATIE RUSSELL FUNDRAISER* FEAT. DEOSIL  6-9PMLittl
 e Theater of Virginia Beach - “GUYS AND DOLLS”  2:30PM ($14/5)Sha
 ka’s – COMEDY FACTORY SUNDAYS FEAT. BLAZE THE HYPNOTIST + DAN ELLI
 SON (THE EDUCATED REDNECK) 7PM  ($10)Smokey Bones - *10 CUP BEER PONG
  TOURNAMENT*  9PM  $100 PRIZEDJ’S/KARAOKE/DANCES:Baker Street - *K
 ARAOKE*  8PMFat Tuesday’s - *KARAOKE*H2O - *OPEN MIC*  9:30PMHK on
  the Bay - *SOUL HAVEN OPEN MIC*  9PMKeagan’s – *KARAOKE*Poppa’
 s Pub - *KARAOKE* 9:30PMReef Lounge - *KARAOKE*  9PMRetro Café – D
 J RAW BASE  10PMTropical Delights – CHICAGO STYLE STEPPIN’ BEGINN
 ER LESSONS 6:30-8PMFAMILY FUN/SPECIAL EVENTS:20th Street – BEACHSTRE
 ET FIREWORKS 10PM24th St. Stage - KRENDL & COMPANY MAGICAL VARIETY SHO
 W  7:30-10:30PMVirginia Aquarium - “DISCOVER THE WOODS” WILDLIFE 
 SEARCH  10AM-4PM  (WEATHER PERMITTING)\n\nFor more information visit
  https://vbnightlife.com/events/click-here-for-sundays-364
DTSTART:20110717T040000Z
DTEND:20110718T035900Z
CATEGORIES:"virginia beach", "virginia beach events", "virginia beach 
 bands", "virginia beach entertainment"
LOCATION:Virginia Beach
WEBSITE:
URL:
CONTACT:
ORGANIZER:VBnightlife.com / VBdaylife.com
ATTACH;FMTTYPE="image/jpeg":http://storage.ning.com/topology/rest/1.0/
 file/get/1664144814?profile=original
ATTENDEE;ROLE=REQ-PARTICIPANT;PARTSTAT=ACCEPTED;RSVP=TRUE;CN="VBnightl
 ife.com":https://vbnightlife.com/profile/admin
END:VEVENT
END:VCALENDAR
