BEGIN:VCALENDAR
PRODID:NingEventWidget-v1
VERSION:2.0
METHOD:PUBLISH
BEGIN:VEVENT
UID:2508951:Event:313709
DTSTAMP:20260422T073845Z
SUMMARY:Click here for SUNDAY 9/6/15 VIRGINIA BEACH EVENT & ENTERTAINM
 ENT LISTINGS
DESCRIPTION:\nSpecial Events\nAdventure ParkÂ at the Virginia Aquarium
 Â - 9a to 5p - $5 Off General Admission With Promo Code VBLIFE here:Â 
 http://bit.ly/1FhDqIF\nAssociation for Research and Enlightenment (A.R
 .E.) Oceanfront Click for events calendar\nLongshots Billiards & Darts
 Â - Chesapeake - Military Appreciation Day - Free Pool and drink disco
 unts for the military\nMuseum of Contemporary Art (MOCA) -Â Now on Exh
 ibit\nAmerican Music FestivalÂ - Oceanfront - 5th Street Stage - Shery
 l Crow, Phil VassarÂ 7pÂ  purchase tickets here\n\nLIVE ENTERTAINMENT\
 n5th Street - American Music Festival (see above)\n12th St Stage - Bra
 ndon Bower 6:30p\n17th StÂ Park - Imagination Movers (family show) 12 
 to 1p & 2 to 3p, The Embers 6p\n19th Street Park - Murphy's Kids 6:30p
 \n24th StÂ Park -Â Reel Big Fish, The PieTastersÂ 7:30pÂ \n27th St Sta
 ge - Dustin Furlow 6:30p\n31st St Park - Guava Jam, Strictly BizsnessÂ
  7:30p\n34th St Stage - Skip Friel DuoÂ Noon to 4p, Jack Becker 6p\nAb
 bey Road Pub - Dikon & Vallet Small World Tour 8:30p\nBoneshakers - Li
 ve Music 3 to 7p on the patio (no info available on their site)\nCalyp
 so Bar & Grill - Atlantic Ave - no info available on their site Â \nCo
 como Joe's -Â 31st Street - Snackbar JonesÂ 9p\nEagles NestÂ - Hilltop
  - no info on their site\nFroggie's Cantina By The BayÂ - Shore Drive 
 - Almost Famous 7p\nJerry's Restaurant & Lounge - Chesapeake -Â NASCAR
 \nKeagan's Irish Pub - Town Center - Karaoke 9p\nMurphy's Irish PubÂ -
 Â  Nature's Child 8p\nRY Lounge - Oceanfront - Sunday Night Heat w/ DJ
  D Izzy, DJ Chino, DJ Emannon\nSouth Beach Grill - No information on t
 heir site\nTapped Gastropub- Hilltop - on the patio 1pm thenÂ Open Mic
 Â hosted by A Modern MythÂ 9p\nWaterman's - Attic opens at 6p for conc
 ert viewing + after party with DJ Dexx\nWing King - Rosemont -Â COUPON
 \nWing King - Centerville -Â  COUPON\nWoody McGees - Holland Rd- Sunda
 y Funday with Happy Hour All Day Long\n\nFor more information visit ht
 tps://vbnightlife.com/events/click-here-for-sunday-9-6-15-virginia-bea
 ch-event-entertainment-l
DTSTART:20150906T040000Z
DTEND:20150907T035900Z
CATEGORIES:"virginia beach", "virginia beach nightlife", easter, "virg
 inia beach bands", "virginia beach entertainment", "events in virginia
  beach", "things to do in virginia beach", "mobile app virginia beach"
LOCATION:Virginia Beach, VA
WEBSITE:
URL:
CONTACT:
ORGANIZER:vbnightlife
ATTACH;FMTTYPE="image/jpeg":http://storage.ning.com/topology/rest/1.0/
 file/get/1664284356?profile=original
ATTENDEE;ROLE=REQ-PARTICIPANT;PARTSTAT=ACCEPTED;RSVP=TRUE;CN="VBnightl
 ife.com":https://vbnightlife.com/profile/admin
END:VEVENT
END:VCALENDAR
