BEGIN:VCALENDAR
PRODID:NingEventWidget-v1
VERSION:2.0
METHOD:PUBLISH
BEGIN:VEVENT
UID:2508951:Event:202087
DTSTAMP:20260422T105509Z
SUMMARY:Click here for SUNDAY 9/30/12 VIRGINIA BEACH ENTERTAINMENT LIS
 TINGS
DESCRIPTION:LIVE ENTERTAINMENT\n7th Street Stage- The Janitors, 5-9PM\
 n31st Street Park- Slapwater, 7-11PM\nBoneshakers- Mike DeMoss (Patio)
  Live Entertainment, 2-6PM, Open Mic w/ Karl Werne 7-11PM\nCalypso- Na
 tures Child, 6-10PM\nRetro Cafe- Sunday Funday W/DJ NADO\nHavana Night
 s- Open Jam Sessions (Every Sunday) , Chris Brydge Trio 8-10PM\nMurphy
 s- Brent Shepard, 9PM\nNat's - Open Mike w/ Jonathan Friedman 9:30\nSo
 undcheck- VBNightlife Commercial @ Midnight\n\nFAMILY FUN/SPECIAL EVEN
 TS:\n39th Annual Neptune Festival\nDiesel- Dog Days of Summer\nLunasea
 - Sunday Funday\nWoody McGees - Sunday Funday - Brunch + Bloody Mary 
 Bar 10am - 2pm\n \n \nDJ’S/KARAOKE/DANCES:\nAJ Gators (Holland Roa
 d)- Texas Hold 'em- 7PM\nKeagans- Karaoke, 9PM\nSecrets- Karaoke w/ El
  Mike, 8PM-12AM\nWannaB's- KARAOKE 7 PM - 2 AM,Monday - Saturday (21 a
 nd Older)\nCLICK HERE FOR HAPPY HOUR DEALS\nCLICK HERE REACH OUR VENUE
 'S PAGE \nCLICK HERE FOR OUR BAND/DJ PAGE\n\nFor more information vis
 it https://vbnightlife.com/events/click-here-for-sunday-9-30-12-virgin
 ia-beach-entertainment-listin
DTSTART:20120930T040000Z
DTEND:20121001T035900Z
CATEGORIES:"virginia beach entertainment", "virginia beach nightlife",
  "virginia beach bands"
LOCATION:Virginia Beach
WEBSITE:
URL:
CONTACT:
ORGANIZER:VBnightlife.com (Dionna Campanella)
ATTACH;FMTTYPE="image/jpeg":http://storage.ning.com/topology/rest/1.0/
 file/get/1664181472?profile=original
ATTENDEE;ROLE=REQ-PARTICIPANT;PARTSTAT=ACCEPTED;RSVP=TRUE;CN="VBnightl
 ife.com":https://vbnightlife.com/profile/admin
END:VEVENT
END:VCALENDAR
