BEGIN:VCALENDAR
PRODID:NingEventWidget-v1
VERSION:2.0
METHOD:PUBLISH
BEGIN:VEVENT
UID:2508951:Event:201798
DTSTAMP:20260422T141135Z
SUMMARY:Click here for SUNDAY 9/2/12 VIRGINIA BEACH ENTERTAINMENT LIST
 INGS
DESCRIPTION:LIVE ENTERTAINMENT\nVerizon Wireless American Music Festiv
 al\n7th Street Stage- The Deloreans, 5-9PM\nBoneshakers- (Patio) Mike 
 DeMoss, 2-6PM, Open Mic w/ Karl Werne 7-11PM\nCalypso- Natures Child, 
 6-10PM\nRetro Cafe- Sunday Funday W/DJ NADO\nHavana Nights- Open Jam S
 essions (Every Sunday) , Chris Brydge Trio 8-10PM\nMurphys- Brent Shep
 ard, 9PM\nSoundcheck- VBNightlife Commercial @ Midnight!\nSouth Beach 
 Grill- Coastland\nSurf Club Ocean Grille-Dreams, 3-6PM\nSunset Beach R
 esort Hotel- Rip Chord, 2-5PM\n \nTHEATRE/FUNDRAISERS/CONCERTS/SPORTS
 :\nFunny Bone Comedy Club- \n \nFAMILY FUN/SPECIAL EVENTS:\nLittle I
 sland Park- Landon Stark and Victoria Phelps, 6-8PM\nDiesel- Dog Days 
 of Summer\nLunasea- Sunday Funday\nWoody McGees - Sunday Funday - Bru
 nch + Bloody Mary Bar 10am - 2pm\n \nDJ’S/KARAOKE/DANCES:\nAJ Gator
 s (Holland Road)- Texas Hold 'em- 7PM\nKeagans- Karaoke, 9PM\nSecrets-
  Karaoke w/ El Mike, 8PM-12AM\nWannaB's- KARAOKE 7 PM - 2 AM,Monday - 
 Saturday (21 and Older)\nCLICK HERE FOR HAPPY HOUR DEALS\nCLICK HERE R
 EACH OUR VENUE'S PAGE \nCLICK HERE FOR OUR BAND/DJ PAGE\n\nFor more i
 nformation visit https://vbnightlife.com/events/click-here-for-sunday-
 9-2-12-virginia-beach-entertainment-listing
DTSTART:20120902T040000Z
DTEND:20120903T035900Z
CATEGORIES:"virginia beach entertainment", "virginia beach nightlife",
  "virginia beach bands"
LOCATION:Virginia Beach
WEBSITE:
URL:
CONTACT:
ORGANIZER:vbnightlife.com (Dionna Campanella)
ATTACH;FMTTYPE="image/jpeg":http://storage.ning.com/topology/rest/1.0/
 file/get/1664174752?profile=original
ATTENDEE;ROLE=REQ-PARTICIPANT;PARTSTAT=ACCEPTED;RSVP=TRUE;CN="VBnightl
 ife.com":https://vbnightlife.com/profile/admin
END:VEVENT
END:VCALENDAR
