BEGIN:VCALENDAR
PRODID:NingEventWidget-v1
VERSION:2.0
METHOD:PUBLISH
BEGIN:VEVENT
UID:2508951:Event:202158
DTSTAMP:20260422T123105Z
SUMMARY:Click here for SUNDAY 9/16/12 VIRGINIA BEACH ENTERTAINMENT LIS
 TINGS
DESCRIPTION:LIVE ENTERTAINMENT\n7th Street Stage- Vinyl Headlights, 5-
 9PM\n17th & 24th Street Park- Mediterranean (all day)\n31st Street Par
 k- The Deloreans, 7-11PM\nBoneshakers- (Patio) Brent Shepard, 2-6PM, O
 pen Mic w/ Karl Werne 7-11PM\nCalypso- Natures Child, 6-10PM\nRetro Ca
 fe- Sunday Funday W/DJ NADO\nHavana Nights- Open Jam Sessions (Every S
 unday) , Chris Brydge Trio 8-10PM\nMurphys- Brent Shepard, 9PM\nSoundc
 heck- VBNightlife Commercial @ Midnight!\nSouth Beach Grill- NFL Games
 \n \nTHEATRE/FUNDRAISERS/CONCERTS/SPORTS:\nFunny Bone Comedy Club- \
 n \nFAMILY FUN/SPECIAL EVENTS:\nDiesel- Dog Days of Summer\nLunasea- 
 Sunday Funday\nWoody McGees - Sunday Funday - Brunch + Bloody Mary Ba
 r 10am - 2pm\n \n \nDJ’S/KARAOKE/DANCES:\nAJ Gators (Holland Road)
 - Texas Hold 'em- 7PM\nKeagans- Karaoke, 9PM\nSecrets- Karaoke w/ El M
 ike, 8PM-12AM\nWannaB's- KARAOKE 7 PM - 2 AM,Monday - Saturday (21 and
  Older)\nCLICK HERE FOR HAPPY HOUR DEALS\nCLICK HERE REACH OUR VENUE'S
  PAGE \nCLICK HERE FOR OUR BAND/DJ PAGE\n\nFor more information visit
  https://vbnightlife.com/events/click-here-for-sunday-9-16-12-virginia
 -beach-entertainment-listin
DTSTART:20120916T040000Z
DTEND:20120917T035900Z
CATEGORIES:"virginia beach entertainment", "virginia beach nightlife",
  "virginia beach bands"
LOCATION:Virginia Beach
WEBSITE:
URL:
CONTACT:
ORGANIZER:VBnightlife.com (Dionna Campanella)
ATTACH;FMTTYPE="image/jpeg":http://storage.ning.com/topology/rest/1.0/
 file/get/1664179864?profile=original
ATTENDEE;ROLE=REQ-PARTICIPANT;PARTSTAT=ACCEPTED;RSVP=TRUE;CN="VBnightl
 ife.com":https://vbnightlife.com/profile/admin
END:VEVENT
END:VCALENDAR
