BEGIN:VCALENDAR
PRODID:NingEventWidget-v1
VERSION:2.0
METHOD:PUBLISH
BEGIN:VEVENT
UID:2508951:Event:313298
DTSTAMP:20260422T073820Z
SUMMARY:Click here for SUNDAY 8/30/15 VIRGINIA BEACH EVENT & ENTERTAIN
 MENT LISTINGS
DESCRIPTION:\nSpecial Events\nAdventure Park at the Virginia Aquarium
  - 9a to 5p - $5 Off General Admission With Promo Code VBLIFE here: 
 http://bit.ly/1FhDqIF\nAssociation for Research and Enlightenment (A.R
 .E.) Oceanfront Click for events calendar\nPaintball - 58% off on www
 .VBhotdeals.com\nLongshots Billiards & Darts - Chesapeake - Military 
 Appreciation Day - Free Pool and drink discounts for the military\nMus
 eum of Contemporary Art (MOCA) - Now on Exhibit\nFireworks - Virginia
  Beach Oceanfront - Weather permitting 10p\nFarm Bureau Live - Darius
  Rucker, Brett Eldredge, Brothers Osbourne & A Thousand Horses 7p \n\
 nLIVE ENTERTAINMENT\n7th St Stage- Jack Becker 12p, The Janitors 6p\n3
 1st St-  Lewis McGehee 12p, Borderline Crazy 6p\n34th St- Mike Proffi
 tt 12p, Dustin Furlow 6p\nAbbey Road Pub - Paul Wergley 8:30p\nBonesha
 kers - Brent Shepard 3 to 7p on the patio\nCalypso Bar & Grill - Atla
 ntic Ave - Courtney & Monicka 2p, The River Boyz 6p\nChicho's - 29th
  & Pacific - Cody & Austin 7p\nEagles Nest - Hilltop - Live Mus
 ic 11am to 2p\nFroggie's Cantina By The Bay - Shore Drive - Plastic 
 Eddie Band 4p\nJerry's Restaurant & Lounge - Chesapeake - NASCAR\nKea
 gan's Irish Pub - Town Center - Karaoke 9p\nMurphy's Irish Pub - Jac
 k Becker 9p\nRY Lounge - Oceanfront - Sunday Night Heat w/ DJ D Izzy,
  DJ Chino, DJ Emannon\nSouth Beach Grill - Marty Kantwell 8p\nTapped G
 astropub- Hilltop - Dave Crumpler & Mike Glass on the patio 1pm then
  Open Mic hosted by A Modern Myth 9p\nWing King - Rosemont - COUPO
 N\nWing King - Centerville -  COUPON\nWoody McGees - Holland Rd- Sund
 ay Funday with Happy Hour All Day Long\n\nFor more information visit h
 ttps://vbnightlife.com/events/click-here-for-sunday-8-30-15-virginia-b
 each-event-entertainment-
DTSTART:20150830T040000Z
DTEND:20150831T035900Z
CATEGORIES:"virginia beach", "virginia beach nightlife", easter, "virg
 inia beach bands", "virginia beach entertainment", "events in virginia
  beach", "things to do in virginia beach", "mobile app virginia beach"
LOCATION:Virginia Beach, VA
WEBSITE:
URL:
CONTACT:
ORGANIZER:vbnightlife
ATTACH;FMTTYPE="image/jpeg":http://storage.ning.com/topology/rest/1.0/
 file/get/1664284038?profile=original
ATTENDEE;ROLE=REQ-PARTICIPANT;PARTSTAT=ACCEPTED;RSVP=TRUE;CN="VBnightl
 ife.com":https://vbnightlife.com/profile/admin
END:VEVENT
END:VCALENDAR
