BEGIN:VCALENDAR
PRODID:NingEventWidget-v1
VERSION:2.0
METHOD:PUBLISH
BEGIN:VEVENT
UID:2508951:Event:313381
DTSTAMP:20260422T073741Z
SUMMARY:Click here for SUNDAY 8/23/15 VIRGINIA BEACH EVENT & ENTERTAIN
 MENT LISTINGS
DESCRIPTION:\nSpecial Events\nEast Coast Surfing Championships -Â See 
 Event Schedule here\nAdventure ParkÂ at the Virginia AquariumÂ - 9a to
  5p - $5 Off General Admission With Promo Code VBLIFE here:Â http://bi
 t.ly/1FhDqIF\nAssociation for Research and Enlightenment (A.R.E.) Ocea
 nfront Click for events calendar\nPaintball - 58% off onÂ www.VBhotdea
 ls.com\nLongshots Billiards & DartsÂ - Chesapeake - Military Appreciat
 ion Day - Free Pool and drink discounts for the military\nMuseum of Co
 ntemporary Art (MOCA) -Â Now on Exhibit\nFireworks - Virginia Beach Oc
 eanfront -Â Weather permitting 10p\n\nLIVE ENTERTAINMENT\n5th Street o
 n the Beach - East Coast Surfing Championship Events:\n\n2:30 PM â€“ 3
 :45 PM The Haoles Â \n3 PM â€“ 4 PM TVA Menâ€™s Pro Finals at 6thÂ Str
 eet\n4 PM â€“ 5:15 PM Coastal Edge Miss ECSC Finals Â \n5:20 PM â€“ 6:
 30 PM Natureâ€™s Child Â \n6:30 PM â€“ 8:30 PM Buddha CouncilÂ \n\n\n7
 th St Stage-Â Mocean 12p, Tidewater Drive BandÂ 6p\n13th St Stage- Vir
 ginia: Mother of Presidents 7p\n17th StÂ Park-Â Broke by SundayÂ 8p\nÂ
  31st St-Â David Carter 12p, DeloreansÂ 6p\n34th St-Â Robbie House Duo
  12p, Lewis McGeheeÂ 6p\nAbbey Road Pub - Paul Wergley 8:30p\nBoneshak
 ers -Â Danny from Gansta of Love & Mechelle from Barefoot nÂ CrazyÂ 3 
 to 7p on the patio\nCalypso Bar & Grill - Atlantic Ave -Â Jack BeckerÂ
  2p, Steve Forss 6p\nChicho's - 29th St - Bryan Dunn 6p\nEagles NestÂ 
 - Hilltop - Live Music 11am to 2p\nFroggie's Cantina By The BayÂ - Sho
 re Drive -Â Legacy 5p\nJerry's Restaurant & Lounge - Chesapeake -Â NAS
 CAR\nKeagan's Irish Pub - Town Center - Karaoke 9p\nMurphy's Irish Pub
 Â -Â Nature's Child 9p\nRY Lounge - Oceanfront - Sunday Night Heat w/ 
 DJ D Izzy, DJ Chino, DJ Emannon\nSouth Beach Grill - Mike Proffitt & D
 ana Silvercloud 8p\nTapped Gastropub- Hilltop -Â Matt Holloman on the 
 patio 1pm then Open MicÂ hosted by A Modern MythÂ 9p\nWoody McGees - H
 olland Rd- Sunday Funday with Happy Hour All Day Long\n\nFor more info
 rmation visit https://vbnightlife.com/events/click-here-for-sunday-8-2
 3-15-virginia-beach-event-entertainment
DTSTART:20150823T040000Z
DTEND:20150824T035900Z
CATEGORIES:"virginia beach", "virginia beach nightlife", easter, "virg
 inia beach bands", "virginia beach entertainment", "events in virginia
  beach", "things to do in virginia beach", "mobile app virginia beach"
LOCATION:Virginia Beach, VA
WEBSITE:
URL:
CONTACT:
ORGANIZER:VBNIGHTLIFE / VBDAYLIFE
ATTACH;FMTTYPE="image/jpeg":http://storage.ning.com/topology/rest/1.0/
 file/get/1664281921?profile=original
ATTENDEE;ROLE=REQ-PARTICIPANT;PARTSTAT=ACCEPTED;RSVP=TRUE;CN="VBnightl
 ife.com":https://vbnightlife.com/profile/admin
END:VEVENT
END:VCALENDAR
