BEGIN:VCALENDAR
PRODID:NingEventWidget-v1
VERSION:2.0
METHOD:PUBLISH
BEGIN:VEVENT
UID:2508951:Event:200322
DTSTAMP:20260422T165139Z
SUMMARY:Click here for SUNDAY 8/19/12 VIRGINIA BEACH ENTERTAINMENT LIS
 TINGS
DESCRIPTION:LIVE ENTERTAINMENT\n7th Street Stage- Spider Love, 5-9PM\n
 13th Street- The Life and Music of Ella Fitzgerald, 7PM,8PM,9PM\n20th 
 Street Park- Weekly Displays, 10PM\n24th Street Park- Krendl & Company
  Magical Variety Show, 7:30PM,8:30PM,9:30PM\n25th Street- Naval Airpow
 er Legacy, 8:45 & 9:30PM\n27th Street Park- The Witch of Pungo, 8:30PM
 ,9:15PM, 10PM\n31st Street Park- Caribbean Steel, 12-4PM, Borderline C
 razy, 7-11PM\nAberdeen Barn- Bryan Dunn, 6-9PM\nBoneshakers- (Patio) D
 avid Carter, 2-6PM, Open Mic w/ Karl Werne 7-11PM\nCalypso- Natures Ch
 ild, 6-10PM\nJewish Mother- Carbon Jam\nRetro Cafe- Sunday Funday W/DJ
  NADO\nHavana Nights- Open Jam Sessions (Every Sunday) , Chris Brydge 
 Trio 8-10PM\nMurphys- Brent Shepard, 9PM\nSouth Beach Grill- Camhead &
  The Noisemakers\nSurf Club Ocean Grille- Ken McNeil, 3-6PM\nSunset B
 each Resort Hotel- Cheap Thrills, 2-5PM\n \nTHEATRE/FUNDRAISERS/CONCE
 RTS/SPORTS:\nFunny Bone Comedy Club- \n \nFAMILY FUN/SPECIAL EVENTS:
 \nDiesel- Dog Days of Summer\nLunasea- Sunday Funday\nWoody McGees - 
 Sunday Funday - Brunch + Bloody Mary Bar 10am - 2pm\nVirginia MOCA- An
 dy Warhol\n \nDJ’S/KARAOKE/DANCES:\nAJ Gators (Holland Road)- Texas
  Hold 'em- 7PM\nKeagans- Karaoke, 9PM\nSecrets- Karaoke w/ El Mike, 8P
 M-12AM\nWannaB's- KARAOKE 7 PM - 2 AM,Monday - Saturday (21 and Older)
 \nCLICK HERE FOR HAPPY HOUR DEALS\nCLICK HERE REACH OUR VENUE'S PAGE 
 \nCLICK HERE FOR OUR BAND/DJ PAGE\n\nFor more information visit https:
 //vbnightlife.com/events/click-here-for-sunday-8-19-12-virginia-beach-
 entertainment-listin
DTSTART:20120819T040000Z
DTEND:20120820T035900Z
CATEGORIES:"virginia beach entertainment", "virginia beach nightlife",
  "virginia beach bands"
LOCATION:Virginia Beach
WEBSITE:
URL:
CONTACT:
ORGANIZER:VBnightlife.com (Dionna Campanella)
ATTACH;FMTTYPE="image/jpeg":http://storage.ning.com/topology/rest/1.0/
 file/get/1664178200?profile=original
ATTENDEE;ROLE=REQ-PARTICIPANT;PARTSTAT=ACCEPTED;RSVP=TRUE;CN="VBnightl
 ife.com":https://vbnightlife.com/profile/admin
END:VEVENT
END:VCALENDAR
